BEGIN:VCALENDAR
PRODID:NingEventWidget-v1
VERSION:2.0
METHOD:PUBLISH
BEGIN:VEVENT
UID:1171189:Event:49718
DTSTAMP:20260421T173351Z
SUMMARY:Launch party for wedding photography website—win free weddin
 g photography
DESCRIPTION:Please join me to celebrate the launch of my wedding photo
 graphy website! Come share in the excitement and enjoy great food and 
 drink.\n\nEnter a raffle to win a ~*~FREE wedding photography package~
 *~ worth $2300 or one of two ~*~FREE portrait sessions~*~ worth $300 e
 ach (good for an engagement, maternity, baby, individual or family por
 trait session). Raffle winner will be announced at 8:30pm.\n\nEveryone
  in attendance will receive a voucher for ~*~$500 OFF any wedding phot
 o package~*~ which can be given to a friend or family member.\n\nCome 
 take advantage of these deals and the excuse for a great night out at 
 a classy neighborhood bistro! Feel free to invite your friends, family
 , and especially engaged couples that you know.\n\nSee what I'm celebr
 ating: http://maureencottonweddings.com/\n\nCheck out the bistro: http
 ://www.birchstbistro.com/index-1.html\n\nPlease RSVP so I can let the 
 bistro know their staffing needs.\n\nFor more information visit http:/
 /neighborsforneighbors.org/events/launch-party-for-wedding
DTSTART:20100824T230000Z
DTEND:20100825T010000Z
CATEGORIES:business, launch, party
LOCATION:Birch Street Bistro
WEBSITE:http://www.birchstbistro.com/index-1.html
URL:http://www.birchstbistro.com/index-1.html
CONTACT:
ORGANIZER;CN="Maureen Cotton":http://neighborsforneighbors.org/profile
 /MaureeCotton
ATTACH;FMTTYPE="image/jpeg":http://storage.ning.com/topology/rest/1.0/
 file/get/2245130299?profile=original
ATTENDEE;ROLE=REQ-PARTICIPANT;PARTSTAT=ACCEPTED;RSVP=TRUE;CN="Maria Ko
 gan":http://neighborsforneighbors.org/profile/MariaKogan
ATTENDEE;ROLE=REQ-PARTICIPANT;PARTSTAT=ACCEPTED;RSVP=TRUE;CN="Jessica 
 Atcheson":http://neighborsforneighbors.org/profile/JessicaAtcheson
ATTENDEE;ROLE=REQ-PARTICIPANT;PARTSTAT=ACCEPTED;RSVP=TRUE;CN="Rachel S
 chneider":http://neighborsforneighbors.org/profile/RachelSchneider
ATTENDEE;ROLE=REQ-PARTICIPANT;PARTSTAT=ACCEPTED;RSVP=TRUE;CN="Maureen 
 Cotton":http://neighborsforneighbors.org/profile/MaureeCotton
END:VEVENT
END:VCALENDAR
