BEGIN:VCALENDAR
PRODID:NingEventWidget-v1
VERSION:2.0
METHOD:PUBLISH
BEGIN:VEVENT
UID:1171189:Event:72557
DTSTAMP:20260421T201948Z
SUMMARY:Learn to Salsa Dance!  Free preview lesson
DESCRIPTION:Join The First Baptist Church in JP and local teacher Rich
 ard Downey for Friday nights of Salsa and Tango dance!\nCome to a FREE
  preview class this Friday, May 13 at 7:30pm.  Bring a friend and try
  it out - if you love it (and we know you will!) register for six week
 s of lessons!\nRegular lessons will be held May 20 - June 24 on Friday
  nights at 7:30pm.  Cost of the regular lessons is $69 per person.\nF
 or more information, contact the First Baptish Church office at 617-52
 4-3992 or churchoffice@firstbaptistjp.org.\n\nFor more information vis
 it http://neighborsforneighbors.org/events/learn-to-salsa-dance-free
DTSTART:20110513T233000Z
DTEND:20110514T003000Z
CATEGORIES:dance, class
LOCATION:The First Baptist Church in Jamaica Plain
WEBSITE:http://www.firstbaptistjp.org
URL:http://www.firstbaptistjp.org
CONTACT:617-524-3992
ORGANIZER:The First Baptist Event team
ATTACH;FMTTYPE="image/jpeg":http://storage.ning.com/topology/rest/1.0/
 file/get/2245133707?profile=original
ATTENDEE;ROLE=REQ-PARTICIPANT;PARTSTAT=ACCEPTED;RSVP=TRUE;CN="Allie He
 rryman":http://neighborsforneighbors.org/profile/AllieHerryman
END:VEVENT
END:VCALENDAR
