BEGIN:VCALENDAR
PRODID:NingEventWidget-v1
VERSION:2.0
METHOD:PUBLISH
BEGIN:VEVENT
UID:1171189:Event:106566
DTSTAMP:20260421T221659Z
SUMMARY:Les dames de Paris —  songs of love and ladies from the cour
 ts of France.
DESCRIPTION:CONCORDIA CONSORT, MetroWest’s Recorder Quartet under th
 e direction of Shiela Beardslee Bosworth, presents  Les dames de Pari
 s —  songs of love and ladies from the courts of France, music of D
 ufay, Mouton, Fevin, Josquin, Willaert, Gervais, Lasso, DuCaurroy & ot
 hers. on Sunday, March 2,  2014, at 3:00 p.m., at the historic Loring
 -Greenough House, 12 South Street, Jamaica Plain MA. , as part of the 
 Sunday Afternoon at the ‘Greenough House Parlor Concert Series. Memb
 ers of the Concordia Consort,  Henia Yacubowicz, George Mastellone, B
 rian Warnock  and Sheila Beardslee, director, will welcome guest arti
 st Eileen Cecelia Callahan, soprano. Meet the artists at afternoon tea
  following the program.The Sunday Afternoon at the ‘Greenough House 
 series recreates the atmosphere of 18th and 19th century “musical af
 ternoons” in the 1760 Loring-Greenough House, twice monthly, October
  to May. Tickets are available at the door: donation $15 ($10 seniors,
  students and JPTC members). Space is limited; reservations are sugges
 ted—call 617-524-3158 or email lghouseconcerts@aim.com.Founded in 19
 95, Concordia Consort is the performance ensemble representing Recorde
 rs/Early Music MetroWest, the metroWest's participatory early music pr
 ogram. For over a decade, Concordia has appeared as guest musicians at
  churches through-out New England. Concordia has been heard in live br
 oadcast on WCRB, WHRB and WGBH Radio and has presented concerts in his
 toric King's Chapel and St. Paul's Cathedral in downtown Boston, at Mi
 ddlesex Community College, MIT Chapel and Williams College, for the Co
 ncord Museum, and other venues. Concordia Consort was featured in The 
 Boston Boy Choir's holiday concerts, in two concerts during the Museum
  of Science's acclaimed Leonardo da Vinci exhibit, and for First Night
  performances in Boston and Portsmouth NH. Under director Sheila Beard
 slee, Concordia's players have toured Italy and Croatia with the vocal
  ensemble Ars et Amici.Named Ensemble-in-Residence at Trinity Episcopa
 l Church in Concord, Concordia Consort frequently performs there on Su
 ndays with the Parish Choir and in concerts during the year. Concordia
  has collaborated with Portsmouth (NH)-based Pavane Renaissance Dance 
 Ensemble and often joins forces with Ars & Amici vocal ensemble.  Con
 cordia's CD, Ay me, Ohime!, featuring guest soprano Eileen Cecelia Cal
 lahan, was released in 2009.Built in 1760, the Loring-Greenough House,
  a local landmark listed on the Massachusetts and National Registers o
 f Historic Places, is located at 12 South Street (at the Civil War Mon
 ument) in Jamaica Plain, MA. It is owned and managed by the non-profit
  Jamaica Plain Tuesday Club, Inc. as a historic house museum and site 
 for art and music presentations. The Loring-Greenough House is wheelch
 air accessible. For more information on the Loring-Greenough House, se
 e www.loring-greenough.org.For reservations or directions, call (617)5
 24-3158, or email  lghouseconcerts@aim.com.\n\nFor more information v
 isit http://neighborsforneighbors.org/events/les-dames-de-paris-songs-
 of-love-and-ladies-from-the-courts-of
DTSTART:20140302T200000Z
DTEND:20140302T223000Z
CATEGORIES:parlor, concert, and, tea
LOCATION:Loring-Greenough House,
WEBSITE:http://www.Loring-Greenough.org
URL:http://www.Loring-Greenough.org
CONTACT:617-524-3158
ORGANIZER;CN="Loring-Greenough House Concerts":http://neighborsforneig
 hbors.org/profile/LoringGreenoughHouseConserts
ATTACH;FMTTYPE="image/jpeg":http://storage.ning.com/topology/rest/1.0/
 file/get/2245142668?profile=original
ATTENDEE;ROLE=REQ-PARTICIPANT;PARTSTAT=ACCEPTED;RSVP=TRUE;CN="Loring-G
 reenough House Concerts":http://neighborsforneighbors.org/profile/Lori
 ngGreenoughHouseConserts
END:VEVENT
END:VCALENDAR
