BEGIN:VCALENDAR
PRODID:NingEventWidget-v1
VERSION:2.0
METHOD:PUBLISH
BEGIN:VEVENT
UID:1171189:Event:104507
DTSTAMP:20260421T201821Z
SUMMARY:LinkedIn and self-marketing
DESCRIPTION:Do you have a LinkedIn profile (or feel like you should) b
 ut aren't sure what it's for, or what to do with it? Join Socializing 
 for Justice for a skillshare on Monday, November 4th and learn how to 
 make the most of your LinkedIn profile.\n\nFee: $10 advance/ $20 door 
 is split with the trainers.\nLimited space - register ahead of time: w
 ww.sojust.org\nCredit cards accepted online. Cash only at the door.\nN
 ewcomers always welcomed!\n\nMake My Profile a Star! LinkedIn & Self-M
 arketing\nLearn how to create a strong, marketable LinkedIn profile to
  help with your job search, networking, career advancement, promoting 
 your own business, and donor/client cultivation. Earn an \"All-Star\" 
 rating through search engine optimization and tips to stand out from t
 he digital crowd, cultivate a personal brand, and get your career movi
 ng.\n\nTAKEAWAYS\n* A first draft of \"branding\" language to attract 
 recruiters, clients, & employers\n* Best practices for differentiating
  your profile from your resume\n* A clear understanding of next steps 
 to take to get a better job in less time\n\nABOUT OUR PRESENTER\nAlyso
 n Weiss is the Young Professional Outreach Coordinator & Social Media 
 Specialist for the career services nonprofit Career Moves—a division
  of JVS, where she manages the organization's social media, teaches jo
 b seekers how to tell their story authentically to achieve their caree
 r goals, and plans networking & professional development events for yo
 ung professionals. \n\nSCHEDULE\n6:00-6:30 Socializing -  bring your
  own dinner\n6:30-8:30 Training and Q&A\n\n*  DIRECTIONS (http://bit.
 ly/ieXreK) - The NonProfit Center is located one block from South Stat
 ion at 89 South Street. The Center is physically accessible through th
 e main lobby. \n \n\nFor more information visit http://neighborsforn
 eighbors.org/events/linkedin-and-self-marketing
DTSTART:20131104T230000Z
DTEND:20131105T013000Z
CATEGORIES:workshop
LOCATION:The Non-Profit Center
WEBSITE:
URL:
CONTACT:
ORGANIZER;CN="Socializing for Justice":http://neighborsforneighbors.or
 g/profile/SocializingforJustice71
ATTACH;FMTTYPE="image/jpeg":
ATTENDEE;ROLE=REQ-PARTICIPANT;PARTSTAT=ACCEPTED;RSVP=TRUE;CN="Socializ
 ing for Justice":http://neighborsforneighbors.org/profile/Socializingf
 orJustice71
END:VEVENT
END:VCALENDAR
