BEGIN:VCALENDAR
PRODID:NingEventWidget-v1
VERSION:2.0
METHOD:PUBLISH
BEGIN:VEVENT
UID:1171189:Event:65014
DTSTAMP:20260421T223617Z
SUMMARY:Lisa Napoli: Happiness Lessons From the Kingdom of Bhutan
DESCRIPTION:Speaker: Lisa Napoli, veteran public radio journalist and 
 author of RADIO SHANGRI-LA: What I Learned in Bhutan, The Happiest Kin
 gdom on Earth\nWhen Lisa Napoli found herself unhappy with the fast-pa
 ced U.S. media world, she volunteered to help start Bhutan’s first y
 outh-oriented radio station. Bhutan is a small kingdom in the Himalaya
 s, home to 650,000 residents, most of whom make their living working i
 n subsistence farming. The nation has experienced rapid change in the 
 past forty years, becoming a democracy in 2008 after a century of mona
 rchy.\nIn her time in Bhutan, Napoli learned more about the people, hi
 story and culture of the “last Buddhist kingdom” and the “happie
 st kingdom on Earth,” and she also learned quite a bit about herself
 . She’s sharing those lessons in her new book, Radio Shangri-la: Wha
 t I Learned in Bhutan, the Happiest Kingdom on Earth (Random House) Co
 me learn more about the kingdom of Bhutan and its lessons for us all.\
 nLisa Napoli is a seasoned journalist who has worked for the public ra
 dio program “Marketplace,” as well as for The New York Times and M
 SNBC. She was born and raised in Brooklyn, N.Y. and is a graduate of H
 ampshire College in Amherst.\n\nFor more information visit http://neig
 hborsforneighbors.org/events/lisa-napoli-happiness-lessons
DTSTART:20110211T000000Z
DTEND:20110211T020000Z
CATEGORIES:discussion
LOCATION:First Church in Jamaica Plain UU, 6 Eliot Street (Across from
  the monument)
WEBSITE:
URL:
CONTACT:
ORGANIZER;CN="Liz W.":http://neighborsforneighbors.org/profile/LizW
ATTACH;FMTTYPE="image/jpeg":http://storage.ning.com/topology/rest/1.0/
 file/get/2245132054?profile=original
ATTENDEE;ROLE=REQ-PARTICIPANT;PARTSTAT=ACCEPTED;RSVP=TRUE;CN="Liz W.":
 http://neighborsforneighbors.org/profile/LizW
END:VEVENT
END:VCALENDAR
