BEGIN:VCALENDAR
PRODID:NingEventWidget-v1
VERSION:2.0
METHOD:PUBLISH
BEGIN:VEVENT
UID:1171189:Event:91225
DTSTAMP:20260422T083300Z
SUMMARY:LISA REDFERN, Singer-Songwriter Public
DESCRIPTION:$15; doors 7:30, concert 8:00ImpresariaReservations@gmail.
 com\"Redfern applies the spiritual, ethereal feeling found in early mo
 untain music...it's just a reminder of what real music is capable of w
 hen it's set free.\"-Folk Roots\n\"Redfern is one to watch.\"-Dirty Li
 nen MagazineFor over two decades, Lisa Redfern’s music has brought j
 oy and comfort to hundreds of thousands, from cradle to nursing home.A
 n award winning singer-songwriter, Lisa Redfern returned to her birth 
 state of Maine, after 14 years in the San Francisco Bay area. With 8 s
 olo recordings to her credit so far, she blends roots in folk, bluegra
 ss, country, gospel, blues, jazz and swing to create something unmista
 kably her own. Lisa’s recordings have garnered positive critical rev
 iew, extensive radio play and several TV appearances. She has added he
 r clear, beautiful voice to dozens of other artists’ projects and so
 ng compilations. An opener for many notables, including Livingston Tay
 lor, Dave Mallett & The Roches, she shared the stage with Pete Seeger,
  and appears locally each June in Dean Stevens’ Sweet Chariot Music 
 Festival South at the Theodore Parker Church, West Roxbury, MA.Artist 
 information - http://www.lisaredfern.com/IMPRESARIA Productions - ht
 tps://sites.google.com/site/impresariaproductions/\n\nFor more informa
 tion visit http://neighborsforneighbors.org/events/lisa-redfern-singer
 -songwriter-public
DTSTART:20120915T000000Z
DTEND:20120915T020000Z
CATEGORIES:concert
LOCATION:Loring-Greenough House
WEBSITE:http://maps.google.com/maps?f=q&source=s_q&hl=en&geocode=&q=12
 +South+Street+02130&sll=42.351996,-71.057153&sspn=0.010498,0.022724&ie
 =UTF8&hq=&hnear=12+South+St,+Boston,+Suffolk,+Massachusetts+02130&z=16
URL:http://maps.google.com/maps?f=q&source=s_q&hl=en&geocode=&q=12+Sou
 th+Street+02130&sll=42.351996,-71.057153&sspn=0.010498,0.022724&ie=UTF
 8&hq=&hnear=12+South+St,+Boston,+Suffolk,+Massachusetts+02130&z=16
CONTACT:781-643-1586
ORGANIZER:IMPRESARIA Productions - eliSabeth Taylor -
ATTACH;FMTTYPE="image/jpeg":http://storage.ning.com/topology/rest/1.0/
 file/get/2245140402?profile=original
ATTENDEE;ROLE=REQ-PARTICIPANT;PARTSTAT=ACCEPTED;RSVP=TRUE;CN="Jeff Bou
 dreau":http://neighborsforneighbors.org/profile/JeffBoudreau
END:VEVENT
END:VCALENDAR
