BEGIN:VCALENDAR
PRODID:NingEventWidget-v1
VERSION:2.0
METHOD:PUBLISH
BEGIN:VEVENT
UID:1171189:Event:60951
DTSTAMP:20260421T220711Z
SUMMARY:Live! Hipsocket plus guest DJ Nomadik
DESCRIPTION:Hipsocket is a tight group of seasoned players who love to
  play music that makes the body wanna move!   Bringing together an e
 clectic array of musical styles, the key ingredient in Hipsocket's mus
 ic is always SOUL:   from Stevie Wonder to Etta James, Amy Winehouse
  to Van Morrison, Aretha, Marvin Gaye, Joss Stone... to Hipsocket's ow
 n fresh and funky originals.\n \nDJ Nomadik will be in the house spin
 ning soulful tunes before and after the set.\n \n9PM, $5\n\nFor more 
 information visit http://neighborsforneighbors.org/events/live-hipsock
 et-plus-guest-dj
DTSTART:20110115T020000Z
DTEND:20110115T060000Z
CATEGORIES:concert, plus, dance, party
LOCATION:Milky Way
WEBSITE:http://www.milkywayjp.com
URL:http://www.milkywayjp.com
CONTACT:617-524-3740
ORGANIZER:Justin Emile
ATTACH;FMTTYPE="image/jpeg":http://storage.ning.com/topology/rest/1.0/
 file/get/2245131898?profile=original
ATTENDEE;ROLE=REQ-PARTICIPANT;PARTSTAT=ACCEPTED;RSVP=TRUE;CN="Carol Do
 wns":http://neighborsforneighbors.org/profile/CarolDowns
END:VEVENT
END:VCALENDAR
