BEGIN:VCALENDAR
PRODID:NingEventWidget-v1
VERSION:2.0
METHOD:PUBLISH
BEGIN:VEVENT
UID:1171189:Event:49095
DTSTAMP:20260421T184818Z
SUMMARY:Make Black Gold!
DESCRIPTION:BLACK GOLD!\n\nEver heard of it?\n\nNo, you say?\nWell, it
 â€™s is truly the stuff dreams are made of. Itâ€™s dark, crumbly, and 
 has an earthly smell. From it, rosy tomatoes reach towards the sky, sp
 iny cucumbers crawl over trellises, and natureâ€™s bounty drops at you
 r feet.\n\nCOMPOST is black gold for gardeners of all levels.\n\nNowâ€
 ™s the time to make your own if you arenâ€™t already!\n\nThe workshop 
 is free and open to everyone.\nItâ€™s taking place on a vacant lot in 
 Egleston Square that is being reclaimed for community green space. Com
 e find out how to make a compost bin and how to compost!\n\nFor more i
 nformation visit http://neighborsforneighbors.org/events/make-black-go
 ld
DTSTART:20100724T140000Z
DTEND:20100724T160000Z
CATEGORIES:workshop
LOCATION:Boylston Community Garden
WEBSITE:
URL:
CONTACT:mmoore3@antioch.edu
ORGANIZER;CN="Melissa Moore":http://neighborsforneighbors.org/profile/
 MelissaMoore
ATTACH;FMTTYPE="image/jpeg":http://storage.ning.com/topology/rest/1.0/
 file/get/2245130185?profile=original
ATTENDEE;ROLE=REQ-PARTICIPANT;PARTSTAT=ACCEPTED;RSVP=TRUE;CN="Benjamin
  Barrington":http://neighborsforneighbors.org/profile/BenjaminBarringt
 on
ATTENDEE;ROLE=REQ-PARTICIPANT;PARTSTAT=ACCEPTED;RSVP=TRUE;CN="Melissa 
 Moore":http://neighborsforneighbors.org/profile/MelissaMoore
END:VEVENT
END:VCALENDAR
