BEGIN:VCALENDAR
PRODID:NingEventWidget-v1
VERSION:2.0
METHOD:PUBLISH
BEGIN:VEVENT
UID:1171189:Event:86282
DTSTAMP:20260421T233957Z
SUMMARY:Making Children's Wishes Come True in Jamaica Plain!
DESCRIPTION:We’re excited to once again be collecting toys as part o
 f The Home for Little Wanderers’ Big Wishes for Little Wanderers hol
 iday gift drive. Each year, holiday wishes come true for thousands of 
 children and families in The Home's care through generous donations to
  the annual gift drive. The items donated to The Home's gift drive are
  given to children and families who are currently being served by one 
 of The Home's more than 20 programs.\nYou’re invited to drop off new
 , unwrapped toys at our office, Coldwell Banker Residential Brokerage,
  713 Centre St, Jamaica Plain, by Monday December 12th. The home serve
 s children of all ages, for gift ideas, click here.\nThe Home for Litt
 le Wanderers is the nation's oldest and one of New England's largest n
 onprofit child and family service agencies. Its mission is to ensure t
 he healthy behavioral, emotional, social and educational development a
 nd physical well-being of children and families living in at-risk circ
 umstances. For more information, visit www.thehome.org.\nHappy Holiday
 s! \n-Ellen And Janis\n\nFor more information visit http://neighborsf
 orneighbors.org/events/making-children-s-wishes-come-true-in-jamaica-p
 lain
DTSTART:20111201T160000Z
DTEND:20111212T220000Z
CATEGORIES:toy, drive
LOCATION:Ellen And Janis Real Estate / Coldwell Banker Residential Bro
 kerage
WEBSITE:
URL:
CONTACT:
ORGANIZER;CN="Janis Lippman":http://neighborsforneighbors.org/profile/
 JanisLippman
ATTACH;FMTTYPE="image/jpeg":
ATTENDEE;ROLE=REQ-PARTICIPANT;PARTSTAT=ACCEPTED;RSVP=TRUE;CN="Janis Li
 ppman":http://neighborsforneighbors.org/profile/JanisLippman
END:VEVENT
END:VCALENDAR
