BEGIN:VCALENDAR
PRODID:NingEventWidget-v1
VERSION:2.0
METHOD:PUBLISH
BEGIN:VEVENT
UID:1171189:Event:36543
DTSTAMP:20260421T164503Z
SUMMARY:MARCH OPENING RECEPTION
DESCRIPTION:STOP BY THURSDAY NIGHT & VIEW NEW ART BY FEATURED ARTISTS:
 \n\nBRIANNE MOTT\n\nBRENDAN KILLIAN\n\nAPRIL CLAY\n\nTIFFINEY SHOQUIST
 \n\nCHRIS ALLEN'S CENTRAL ARTERY PROJECT PLAYING LIVE JAZZ @ 9pm.\n\nD
 ON'T MISS IT!\n\nFor more information visit http://neighborsforneighbo
 rs.org/events/march-opening-reception
DTSTART:20100304T230000Z
DTEND:20100305T030000Z
CATEGORIES:art, opening
LOCATION:THE HALLWAY
WEBSITE:http://www.thehallwayjp.com
URL:http://www.thehallwayjp.com
CONTACT:617-818-5996
ORGANIZER;CN="Brent Refsland":http://neighborsforneighbors.org/profile
 /BrentRefsland
ATTACH;FMTTYPE="image/jpeg":http://storage.ning.com/topology/rest/1.0/
 file/get/2245123679?profile=original
ATTENDEE;ROLE=REQ-PARTICIPANT;PARTSTAT=ACCEPTED;RSVP=TRUE;CN="Brent Re
 fsland":http://neighborsforneighbors.org/profile/BrentRefsland
END:VEVENT
END:VCALENDAR
