BEGIN:VCALENDAR
PRODID:NingEventWidget-v1
VERSION:2.0
METHOD:PUBLISH
BEGIN:VEVENT
UID:1171189:Event:105859
DTSTAMP:20260421T204132Z
SUMMARY:Martin Luther King Jr. Day of Service
DESCRIPTION:On MLK Day, SCI will host a volunteer woodland restoration
  event in Franklin Park followed by a historic walk and reflection ses
 sion on Martin Luther King Jr and service. Â SCI is pleased to have re
 ceived the funding for this opportunity through the Massachusetts Serv
 ice Alliance's 2014 MLK Day Grant.\nThrough the collaboration of SCIâ€
 ™s host partner sites, the Franklin Park Coalition will join DotWell a
 nd the Millennium Ten Initiative to host a service day onÂ January 20,
  2014Â to honor Martin Luther King Jr. Â \nVolunteer Focus:Â Removal o
 f cat briar (a prickly vine that strangles trees) and trash removal fr
 om Franklin Park. Â The project will begin with a brief introduction t
 o the park, woodland restoration and Martin Luther King Jr.â€™s focus 
 on community and the importance of service. Â \nDate and Location:Â Ja
 nuary 20th with a start up location at the Valley Gates Parking Lot of
 f of Circuit Drive in Franklin Park. Â Please follow this link for mor
 e detailedÂ walking directionsÂ from Green St. Station. Â \nTime:Â 10a
 m until 1:30pm with the last 30 minutes focusing on a reflection about
  MLK, service, and the significance of Franklin Park to the African-Am
 erican community.Â \nContact:Â Please Contact Pareesa Charmchi to sign
  up for this event. Â She can be reachedÂ pcharmchi@socialcapitalinc.o
 rgÂ or (617) 442 4141.\n\nFor more information visit http://neighborsf
 orneighbors.org/events/martin-luther-king-jr-day-of-service
DTSTART:20140120T150000Z
DTEND:20140120T183000Z
CATEGORIES:volunteer, opportunity
LOCATION:Valley Gates Parking Lot at Franklin Park Boston 02121
WEBSITE:http://socialcapitalinc.org/node/1570
URL:http://socialcapitalinc.org/node/1570
CONTACT:6174424141
ORGANIZER:Social Capital Inc.
ATTACH;FMTTYPE="image/jpeg":http://storage.ning.com/topology/rest/1.0/
 file/get/2245141546?profile=original
ATTENDEE;ROLE=REQ-PARTICIPANT;PARTSTAT=ACCEPTED;RSVP=TRUE;CN="Christin
 e Poff":http://neighborsforneighbors.org/profile/ChristinePoff67
END:VEVENT
END:VCALENDAR
