BEGIN:VCALENDAR
PRODID:NingEventWidget-v1
VERSION:2.0
METHOD:PUBLISH
BEGIN:VEVENT
UID:1171189:Event:33361
DTSTAMP:20260421T200212Z
SUMMARY:Mass Equality The Red Party
DESCRIPTION:Come join us at Felt Boston and support MassEquality with 
 an evening of fun, food, friends and frosty equali-tinis with special 
 appearances by: The Kinsey Sicks and DJ Deja. Food will be provided an
 d a cash bar will be available.\n\nHost Committee Members: Lisa Drapki
 n & Debbie Lewis Â· David Wilson & Rob Compton Â· Pete Dziedzic & Jay 
 Judas Â· Valerie Fein-Zachary & Jacqueline Fein-Zachary Â· Dorian Des 
 Lauriers Â· Roberta Orlandino & Brenda Gailhouse Â· Silvia Glick & Con
 stance Brown Â· Arthur Lipkin & Robert Ellsworth Â· Sara Whitman & Jea
 nine Cowen Â· Sue Hyde & Jade McGleughlin Â· Robyn Ochs & Peg Preble Â
 · Marcia Hams & Susan Shepherd Â· Ellen Grubert & Janis Lippman Â· Jon
 athan Scott & Michael McGuill\n\nFor more information visit http://nei
 ghborsforneighbors.org/events/mass-equality-the-red-party
DTSTART:20100213T230000Z
DTEND:20100214T023000Z
CATEGORIES:fundraiser
LOCATION:Felt Nightclub
WEBSITE:http://www.massequality.org/redparty/
URL:http://www.massequality.org/redparty/
CONTACT:617-878-2302
ORGANIZER:Janis Lippman & Ellen Grubert
ATTACH;FMTTYPE="image/jpeg":http://storage.ning.com/topology/rest/1.0/
 file/get/2245121572?profile=original
ATTENDEE;ROLE=REQ-PARTICIPANT;PARTSTAT=ACCEPTED;RSVP=TRUE;CN="Janis Li
 ppman":http://neighborsforneighbors.org/profile/JanisLippman
ATTENDEE;ROLE=REQ-PARTICIPANT;PARTSTAT=TENTATIVE;RSVP=TRUE;CN="Orissa 
 Viza":http://neighborsforneighbors.org/profile/OrissaViza
END:VEVENT
END:VCALENDAR
