BEGIN:VCALENDAR
PRODID:NingEventWidget-v1
VERSION:2.0
METHOD:PUBLISH
BEGIN:VEVENT
UID:1171189:Event:60064
DTSTAMP:20260421T182653Z
SUMMARY:massmouth Story Slam: Holidaze
DESCRIPTION:http://www.massmouth.com story slams. Bring your five minu
 te story on the theme and your could be one of ten lucky tellers drawn
  at random to tell and be judged.\nmassmouth is a group of Massachuset
 ts's professional and amateur storytellers creating indoor venues for 
 popular monthly \"mouthoffs\" and story slams.\nSunday, December 26 - 
 \"holidaze\" - The holidays produce some great stories - tell yours!\n
 \nFor more information visit http://neighborsforneighbors.org/events/m
 assmouth-story-slam-holidaze
DTSTART:20101226T233000Z
DTEND:20101227T020000Z
CATEGORIES:story, slam
LOCATION:Milky Way Lounge
WEBSITE:http://www.milkywayjp.com
URL:http://www.milkywayjp.com
CONTACT:617-524-3740
ORGANIZER;CN="Carol Downs":http://neighborsforneighbors.org/profile/Ca
 rolDowns
ATTACH;FMTTYPE="image/jpeg":http://storage.ning.com/topology/rest/1.0/
 file/get/2245131730?profile=original
ATTENDEE;ROLE=REQ-PARTICIPANT;PARTSTAT=ACCEPTED;RSVP=TRUE;CN="Carol Do
 wns":http://neighborsforneighbors.org/profile/CarolDowns
END:VEVENT
END:VCALENDAR
