BEGIN:VCALENDAR
PRODID:NingEventWidget-v1
VERSION:2.0
METHOD:PUBLISH
BEGIN:VEVENT
UID:1171189:Event:56893
DTSTAMP:20260421T182804Z
SUMMARY:massmouth's Story Slam \"Medical Madness\" at Bella Luna
DESCRIPTION:massmouth's first JP story slam took place at Bella Luna o
 n Sunday, October 17th, 2010 to a packed room. What is a story slam? B
 ased on a poetry slam format and similar to American Idol, a story sla
 m is a contest of words by known and undiscovered talent. massmouth po
 sts a theme on it's website and story slammers will sign up on the nig
 ht to tell a 5-minute short story on the evening's theme and a lucky t
 en names will be drawn at random from a bag. There will be a team of 5
  judges - interested amatuers, who love stories. We give preference to
  new tellers.\n\nCLICK HERE to watch the video of the first place winn
 er, JP resident: Elizabeth Wylie.\n\n\nThat being said slams will be h
 eld monthly on the 3rd Sunday of the month (Dec 26 is the only excepti
 on) and the next theme for JP is \"MEDICAL MADNESS\" on Sunday, NOVEMB
 ER 21 with special guest host Miss HoneySuckle Duvet (aka Amber P. Kni
 ght). Get there by 6:30 to put your name in the hat to tell and eat be
 forehand, there won't be any tables in the lounge!\n\nFor more informa
 tion visit http://neighborsforneighbors.org/events/massmouths-story-sl
 am-medical-1
DTSTART:20101121T233000Z
DTEND:20101122T023000Z
CATEGORIES:story, slam
LOCATION:Bella Luna
WEBSITE:http://www.milkywayjp.com/
URL:http://www.milkywayjp.com/
CONTACT:
ORGANIZER;CN="Robin Maxfield":http://neighborsforneighbors.org/profile
 /RobinMaxfield800
ATTACH;FMTTYPE="image/jpeg":
ATTENDEE;ROLE=REQ-PARTICIPANT;PARTSTAT=ACCEPTED;RSVP=TRUE;CN="www.TheB
 ostonHomeTeam.com/blog":http://neighborsforneighbors.org/profile/Willi
 amBrokhof
ATTENDEE;ROLE=REQ-PARTICIPANT;PARTSTAT=ACCEPTED;RSVP=TRUE;CN="Robin Ma
 xfield":http://neighborsforneighbors.org/profile/RobinMaxfield800
END:VEVENT
END:VCALENDAR
