BEGIN:VCALENDAR
PRODID:NingEventWidget-v1
VERSION:2.0
METHOD:PUBLISH
BEGIN:VEVENT
UID:1171189:Event:64795
DTSTAMP:20260421T190003Z
SUMMARY:massmouth's Story Slam! THEME: BEASTS
DESCRIPTION:Whether it crawls, walks, slithers, flys or resides deep w
 ithin you, we want to hear your beastly stories. There is a story the
 re, whether you know it yet, or not. Bring it.\nOur story slam season 
 continues at Bella Luna with “Beasts” and special guest, Joseph Po
 rcelli, founder and Chief Executive Neighbor of NeighborsForNeighbors.
 org.\nWhat is a story slam? Like a poetry slam, it is a contest of wor
 ds by known and undiscovered talent. massmouth posts a theme on it's w
 ebsite and story slammers will sign up, in person, to tell a 5-minute 
 short story on that theme. Ten lucky contestants will be drawn at ran
 dom.\n Prizes. Games. Fun.\n \nSPECIAL GUEST: JOSEPH PORCELLIHe is th
 e founder and Chief Executive of NeighborsForNeighbors.org, the site t
 hat connects neighbors who don't know each other do stuff with and for
  each other in the neighborhood where they live. He earnshis living le
 ading a consulting practice that provides community engagement strateg
 y and implementationto Federal, State, and Local public agencies and t
 heir partners.\n\nFor more information visit http://neighborsforneighb
 ors.org/events/massmouths-story-slam-theme
DTSTART:20110220T233000Z
DTEND:20110221T023000Z
CATEGORIES:story, slam
LOCATION:Bella Luna
WEBSITE:http://massmouth.com
URL:http://massmouth.com
CONTACT:617-524-6060
ORGANIZER:
ATTACH;FMTTYPE="image/jpeg":http://storage.ning.com/topology/rest/1.0/
 file/get/2245132179?profile=original
ATTENDEE;ROLE=REQ-PARTICIPANT;PARTSTAT=ACCEPTED;RSVP=TRUE;CN="Howard K
 atz":http://neighborsforneighbors.org/profile/HowardKatz
ATTENDEE;ROLE=REQ-PARTICIPANT;PARTSTAT=ACCEPTED;RSVP=TRUE;CN="www.TheB
 ostonHomeTeam.com/blog":http://neighborsforneighbors.org/profile/Willi
 amBrokhof
ATTENDEE;ROLE=REQ-PARTICIPANT;PARTSTAT=ACCEPTED;RSVP=TRUE;CN="Joseph P
 orcelli (Chief Neighbor)":http://neighborsforneighbors.org/profile/jos
 ephporcelli
ATTENDEE;ROLE=REQ-PARTICIPANT;PARTSTAT=ACCEPTED;RSVP=TRUE;CN="Robin Ma
 xfield":http://neighborsforneighbors.org/profile/RobinMaxfield800
END:VEVENT
END:VCALENDAR
