BEGIN:VCALENDAR
PRODID:NingEventWidget-v1
VERSION:2.0
METHOD:PUBLISH
BEGIN:VEVENT
UID:1171189:Event:104365
DTSTAMP:20260421T190003Z
SUMMARY:Mattapan is Preparing. Are you?
DESCRIPTION:Join us in preparing our families, neighborhoods, and comm
 unities for a healthy and resilient Boston.\nFree Admission. All are w
 elcome. Rain or Shine.\nLocation: Mildred Avenue Community Center  5 M
 ildred Ave., Mattapan MA 02126\n- FREE supplies for your emergency kit
  - FREE health information\n- FREE dental screening for children and c
 leaning for adults\n- FREE activities for children and adults\n- Compl
 imentary age- and weight-appropriate car booster seats for children on
  a first-come, first served basis\n- Learn CPR anytime\nLearn how the 
 Boston Public Health Commission, Boston Emergency Medical Services, Bo
 ston Police Department, Boston Fire Department, and the Mayor's Office
  of Emergency Management support community preparedness.\nFor more inf
 ormation, including a list of scheduled activities, visit readysafehea
 lthy.org or email readysafehealthy@bphc.org\nCo-hosts of the event inc
 lude Boston EMS, Boston Mayor's Office of Emergency Management, Mattap
 an Food and Fitness Coalition, Mattapan United, Mattapan ABCD, Boston 
 Centers for Youth and Families, Urban Public Safety Coalition, Greenov
 ate Boston, and Mattapan Community Health Center.\n\nFor more informat
 ion visit http://neighborsforneighbors.org/events/mattapan-is-preparin
 g-are-you
DTSTART:20130921T170000Z
DTEND:20130921T200000Z
CATEGORIES:community, awareness
LOCATION:Midred Avenue Community Center
WEBSITE:
URL:
CONTACT:
ORGANIZER;CN="Boston Public Health Commission":http://neighborsforneig
 hbors.org/profile/BostonPublicHealthCommission
ATTACH;FMTTYPE="image/jpeg":http://storage.ning.com/topology/rest/1.0/
 file/get/2245142078?profile=original
ATTENDEE;ROLE=REQ-PARTICIPANT;PARTSTAT=ACCEPTED;RSVP=TRUE;CN="Boston P
 ublic Health Commission":http://neighborsforneighbors.org/profile/Bost
 onPublicHealthCommission
END:VEVENT
END:VCALENDAR
