BEGIN:VCALENDAR
PRODID:NingEventWidget-v1
VERSION:2.0
METHOD:PUBLISH
BEGIN:VEVENT
UID:1171189:Event:50490
DTSTAMP:20260421T215028Z
SUMMARY:Mayor Menino’s Movie Night: Michael Jackson’s “This is I
 t”
DESCRIPTION:Join the Franklin Park Coalition for the end of the playho
 use season for a free viewing of Michael Jackson’s movie “This is 
 It.” Bring your beach chairs and a picnic for some family fun! The f
 ilm will begin at dusk at the Elma Lewis Playhouse in Franklin Park.\n
 \nFor more information visit http://neighborsforneighbors.org/events/m
 ayor-meninos-movie-night
DTSTART:20100817T230000Z
DTEND:20100818T020000Z
CATEGORIES:film
LOCATION:Elma Lewis Playhouse in Franklin Park
WEBSITE:http://franklinprkcoalition.org
URL:http://franklinprkcoalition.org
CONTACT:617-442-4141
ORGANIZER:Franklin Park Coalition
ATTACH;FMTTYPE="image/jpeg":http://storage.ning.com/topology/rest/1.0/
 file/get/2245130354?profile=original
ATTENDEE;ROLE=REQ-PARTICIPANT;PARTSTAT=ACCEPTED;RSVP=TRUE;CN="Christin
 e Poff":http://neighborsforneighbors.org/profile/ChristinePoff67
END:VEVENT
END:VCALENDAR
