BEGIN:VCALENDAR
PRODID:NingEventWidget-v1
VERSION:2.0
METHOD:PUBLISH
BEGIN:VEVENT
UID:1171189:Event:56319
DTSTAMP:20260421T194424Z
SUMMARY:Medical Marijuana Stakeholder's Meeting
DESCRIPTION:Join medical marijuana patients, family members, and publi
 c health groups to decide:\n\nWhat are our goals for the next year?\nH
 ow can we work as a group to be most effective?\nWhy have some states 
 passed laws that don't allow patients to grown their own medicine?\nWh
 at is happening in other states and how does if affect Massachusetts?\
 n\nThe meeting will be facilitated by Steph Sherer from Americans for 
 Safe Access (ASA) and the Mass. Patient Advocacy Alliance (MPAA).\n\nA
 mericans for Safe Access is the largest national member based organiza
 tion of patients, medical professionals, scientists, and concerned cit
 izens promoting safe and legal access to cannabis for therapeutic use 
 and research.\n\nMPAA works with medical marijuana patients, their fam
 ily members, medical professionals, and public health organizations to
  support safe access to medical marijuana for patients in Massachusett
 s.\n\nFor more information visit http://neighborsforneighbors.org/even
 ts/medical-marijuana-stakeholders
DTSTART:20101113T150000Z
DTEND:20101113T210000Z
CATEGORIES:meeting
LOCATION:Boston Public Library, Orientation Glass Room
WEBSITE:
URL:
CONTACT:508.410.1547
ORGANIZER;CN="Matthew Allen":http://neighborsforneighbors.org/profile/
 MatthewAllen
ATTACH;FMTTYPE="image/jpeg":
ATTENDEE;ROLE=REQ-PARTICIPANT;PARTSTAT=ACCEPTED;RSVP=TRUE;CN="Matthew 
 Allen":http://neighborsforneighbors.org/profile/MatthewAllen
END:VEVENT
END:VCALENDAR
