BEGIN:VCALENDAR
PRODID:NingEventWidget-v1
VERSION:2.0
METHOD:PUBLISH
BEGIN:VEVENT
UID:1171189:Event:27042
DTSTAMP:20260421T181813Z
SUMMARY:Meditation Workshop
DESCRIPTION:When we get still in our mind, we can draw close to the gr
 eat source of peace and love. This seminar emphasizes the importance o
 f learning to listen, without distraction, to that “still small voic
 e” within through the practice of meditation. How does one come to t
 his place in meditation of\nspiritual silence and stillness when our m
 inds are filled with chaos and chatter? In this seminar, learn to quie
 t your mind and tap into a natural state of rest, peace, joy, and crea
 tivity\nthat is possible for everyone.\n\nReverend Mary Francis Drake 
 is an ordained Priest in the Order of Christ/Sophia. She serves in the
  Center of Light, Boston. She began her training in the fall of 2002,\
 nwas ordained a Minister-Deacon in August of 2004 and a Priest in Apri
 l of 2005. She lives in Newton with her three children. Rev. Mary Fran
 cis earned a Masters degree in Social Work from Boston University in 2
 008, a Masters degree in Psychology fromthe University of Lowell in 19
 89, an d a Bachelors degree in Interdisciplinary Studies at Plymouth S
 tate College in 1985. She has been teaching undergraduate Psychology a
 t UMASS Lowell both on campus and online for over 20 years and also ha
 s recently joined Hallmark Health VNA & Hospice as a Hospice Social Wo
 rker.\n\nFor more information visit http://neighborsforneighbors.org/e
 vents/meditation-workshop
DTSTART:20090808T233000Z
DTEND:20090809T010000Z
CATEGORIES:workshop
LOCATION:Center or Light
WEBSITE:http://www.CentersofLight.org
URL:http://www.CentersofLight.org
CONTACT:617-990-7411
ORGANIZER:Rev. Mary Francis Drake, Center of Light
ATTACH;FMTTYPE="image/jpeg":
ATTENDEE;ROLE=REQ-PARTICIPANT;PARTSTAT=ACCEPTED;RSVP=TRUE;CN=kate:http
 ://neighborsforneighbors.org/profile/kate
END:VEVENT
END:VCALENDAR
