BEGIN:VCALENDAR
PRODID:NingEventWidget-v1
VERSION:2.0
METHOD:PUBLISH
BEGIN:VEVENT
UID:1171189:Event:76898
DTSTAMP:20260421T214537Z
SUMMARY:Mee
DESCRIPTION:The Jamaica Plain Republicans, that is, Boston Wards 11 & 
 19 will\nmeet on August 23, the first Tuesday of the month at 8:00PM a
 t Doyle's Cafe 3484 Washington St.\n\n    For more information cont
 act Edward Wagner, chair of Ward 11 at\n    524-5352 or Edward59@JP
 -GOP.org\n\n\nEdward W. Wagner\nRosemary Street, Jamaica Plain\nEdward
 59@JP-GOP.org\n\n \n\nFor more information visit http://neighborsforn
 eighbors.org/events/mee
DTSTART:20110803T000000Z
DTEND:20110803T020000Z
CATEGORIES:political, meeting
LOCATION:Doyle's ub
WEBSITE:
URL:
CONTACT:617-54-5352
ORGANIZER;CN="Edward W Wagner":http://neighborsforneighbors.org/profil
 e/EdwardWWagner
ATTACH;FMTTYPE="image/jpeg":
ATTENDEE;ROLE=REQ-PARTICIPANT;PARTSTAT=ACCEPTED;RSVP=TRUE;CN="Edward W
  Wagner":http://neighborsforneighbors.org/profile/EdwardWWagner
END:VEVENT
END:VCALENDAR
