BEGIN:VCALENDAR
PRODID:NingEventWidget-v1
VERSION:2.0
METHOD:PUBLISH
BEGIN:VEVENT
UID:1171189:Event:35301
DTSTAMP:20260421T164014Z
SUMMARY:\"Middle School Dance\" - New Retro Dance Party!!!
DESCRIPTION:We're kicking it off... old skool!\nDance classics from th
 e 70s, 80s, and 90s!\n\nSaturday, February 20, 2010 at 9:30pm\n\nThe A
 lchemist\n435 South Huntington Avenue\nJamaica Plain\n\n\nMUSIC COMMIT
 TEE:\nDamien Paul\nMikey Lee\nDeath Star\n\nFACULTY CHAPERONES:\nLisa 
 Lally\nMarco Gomez\nKathleen Sullivan\nEmma Panda\n\n\nRETRO ATTIRE EN
 COURAGED!!!\n\nNO COVER\n21+\nGLBT Friendly!\n\n\nDesigns by Lisa Lall
 y!\nhttp://www.facebook.com/middleschooldance\nhttp://www.middleschool
 dance.com\n\nFor more information visit http://neighborsforneighbors.o
 rg/events/middle-school-dance-new-retro
DTSTART:20100221T023000Z
DTEND:20100221T060000Z
CATEGORIES:retro, dance, party
LOCATION:The Alchemist
WEBSITE:http://www.facebook.com/middleschooldance
URL:http://www.facebook.com/middleschooldance
CONTACT:
ORGANIZER:DJ Damien Paul
ATTACH;FMTTYPE="image/jpeg":http://storage.ning.com/topology/rest/1.0/
 file/get/2245122881?profile=original
ATTENDEE;ROLE=REQ-PARTICIPANT;PARTSTAT=ACCEPTED;RSVP=TRUE;CN="Damien P
 aul":http://neighborsforneighbors.org/profile/DamienPaul
END:VEVENT
END:VCALENDAR
