BEGIN:VCALENDAR
PRODID:NingEventWidget-v1
VERSION:2.0
METHOD:PUBLISH
BEGIN:VEVENT
UID:1171189:Event:40832
DTSTAMP:20260421T164011Z
SUMMARY:Middle School Dance - Retro Dance Party!
DESCRIPTION:Middle School Dance\n\nRetro dance music from the 70s, 80s
 , and 90s!\n\n\"I put my hand upon your hip... when i dip, you dip, we
  dip!\"\n\n\nMUSIC COMMITTEE:\nDamien Paul\nMikey Lee\nDeath Star (And
 y Leclair and Jason Bergman)\n\n\nFACULTY CHAPERONES:\nLisa Lally\nMar
 co Gomez\nO.Em.G.\n\n\nRETRO ATTIRE STRONGLY ENCOURAGED!!!\n\n\nNO COV
 ER\n21+\n\n\nDesigns by Lisa Lally!\nPhotos by James Coletta Photograp
 hy\n\n\nhttp://www.facebook.com/middleschooldance\nhttp://www.middlesc
 hooldance.com\n\nFor more information visit http://neighborsforneighbo
 rs.org/events/middle-school-dance-retro-1
DTSTART:20100418T013000Z
DTEND:20100418T050000Z
CATEGORIES:dance, "party!"
LOCATION:The Alchemist
WEBSITE:http://www.middleschooldance.com
URL:http://www.middleschooldance.com
CONTACT:
ORGANIZER;CN="Damien Paul":http://neighborsforneighbors.org/profile/Da
 mienPaul
ATTACH;FMTTYPE="image/jpeg":http://storage.ning.com/topology/rest/1.0/
 file/get/2245128151?profile=original
ATTENDEE;ROLE=REQ-PARTICIPANT;PARTSTAT=ACCEPTED;RSVP=TRUE;CN="Damien P
 aul":http://neighborsforneighbors.org/profile/DamienPaul
END:VEVENT
END:VCALENDAR
