BEGIN:VCALENDAR
PRODID:NingEventWidget-v1
VERSION:2.0
METHOD:PUBLISH
BEGIN:VEVENT
UID:1171189:Event:39063
DTSTAMP:20260421T163914Z
SUMMARY:Middle School Dance - Retro Dance Party!
DESCRIPTION:A flashback to better times... with retro dance music from
  the 70s, 80s, and 90s!\n\n\"Girl I want to make you sweat, sweat till
  you can't sweat no more!\"\n\n\nMUSIC COMMITTEE:\nDamien Paul\nMikey 
 Lee\nDeath Star (Andy Leclair and Jason Bergman)\n\nFACULTY CHAPERONES
 :\nLisa Lally\nMarco Gomez\nEmma Panda (aka O.Em.G.)\n\n\nRETRO ATTIRE
  ENCOURAGED!!!\n\nNO COVER\n21+\n\n\nFeaturing our MSD special \"spike
 d punch\" cocktail from Judo, the head bartender at the Alchemist!\n\n
 \nDesigns by Lisa Lally!\nhttp://www.facebook.com/middleschooldance\nh
 ttp://www.middleschooldance.com\n\nFor more information visit http://n
 eighborsforneighbors.org/events/middle-school-dance-retro
DTSTART:20100328T014500Z
DTEND:20100328T050000Z
CATEGORIES:dance, "party!"
LOCATION:The Alchemist
WEBSITE:http://www.middleschooldance.com
URL:http://www.middleschooldance.com
CONTACT:
ORGANIZER;CN="Damien Paul":http://neighborsforneighbors.org/profile/Da
 mienPaul
ATTACH;FMTTYPE="image/jpeg":http://storage.ning.com/topology/rest/1.0/
 file/get/2245126204?profile=original
ATTENDEE;ROLE=REQ-PARTICIPANT;PARTSTAT=ACCEPTED;RSVP=TRUE;CN="Damien P
 aul":http://neighborsforneighbors.org/profile/DamienPaul
END:VEVENT
END:VCALENDAR
