BEGIN:VCALENDAR
PRODID:NingEventWidget-v1
VERSION:2.0
METHOD:PUBLISH
BEGIN:VEVENT
UID:1171189:Event:59174
DTSTAMP:20260421T163757Z
SUMMARY:MIG Welding Workshop this Saturday!
DESCRIPTION:Receive a general overview of MIG Welding and create a pie
 ce to take home! This is a great introduction to welding. The workshop
  includes materials and safety gear for the class. Students will learn
  the basics of MIG welding, cutting, how to use hand tools and shop eq
 uipment.\n\nWe also offer 8 and 10 week classes, which cover Gas, stic
 k, MIG and TIG welding, shop equipment, hand tools and cutting techniq
 ues. In addition to welding, we also offer classes in jewelry, stone c
 arving, bronze casting, live figure modeling, mold making and electrol
 ytic etching.\n\nFor more information visit http://neighborsforneighbo
 rs.org/events/mig-welding-workshop-this
DTSTART:20101211T150000Z
DTEND:20101211T210000Z
CATEGORIES:workshop
LOCATION:Stonybrook Fine Arts
WEBSITE:http://www.stonybrookfinearts.com/
URL:http://www.stonybrookfinearts.com/
CONTACT:617-522-3331
ORGANIZER;CN="Stonybrook Fine Arts":http://neighborsforneighbors.org/p
 rofile/StonybrookFineArts
ATTACH;FMTTYPE="image/jpeg":
ATTENDEE;ROLE=REQ-PARTICIPANT;PARTSTAT=ACCEPTED;RSVP=TRUE;CN="Stonybro
 ok Fine Arts":http://neighborsforneighbors.org/profile/StonybrookFineA
 rts
END:VEVENT
END:VCALENDAR
