BEGIN:VCALENDAR
PRODID:NingEventWidget-v1
VERSION:2.0
METHOD:PUBLISH
BEGIN:VEVENT
UID:1171189:Event:59322
DTSTAMP:20260421T184558Z
SUMMARY:Mike's Fitness Toy Drive
DESCRIPTION:The first 150 people to bring an unwrapped toy to Mike's F
 itness can purchase the 1 day special of 1 year for $299.00. You can a
 lso just bring a toy to donate. \n\nFor more information visit http:/
 /neighborsforneighbors.org/events/mikes-fitness-toy-drive-1
DTSTART:20101218T110000Z
DTEND:20101219T020000Z
CATEGORIES:"toy drive"
LOCATION:The Brewery
WEBSITE:http://www.mikesfitnessjp.com
URL:http://www.mikesfitnessjp.com
CONTACT:617-524-6357
ORGANIZER:Mike's Fitness and supported by Neighbors for Neighbors
ATTACH;FMTTYPE="image/jpeg":http://storage.ning.com/topology/rest/1.0/
 file/get/2245131022?profile=original
ATTENDEE;ROLE=REQ-PARTICIPANT;PARTSTAT=ACCEPTED;RSVP=TRUE;CN=Lauren:ht
 tp://neighborsforneighbors.org/profile/Lauren72
ATTENDEE;ROLE=REQ-PARTICIPANT;PARTSTAT=ACCEPTED;RSVP=TRUE;CN=Alison:ht
 tp://neighborsforneighbors.org/profile/Alison
ATTENDEE;ROLE=REQ-PARTICIPANT;PARTSTAT=ACCEPTED;RSVP=TRUE;CN="Joseph P
 orcelli (Chief Neighbor)":http://neighborsforneighbors.org/profile/jos
 ephporcelli
END:VEVENT
END:VCALENDAR
