BEGIN:VCALENDAR
PRODID:NingEventWidget-v1
VERSION:2.0
METHOD:PUBLISH
BEGIN:VEVENT
UID:1171189:Event:92993
DTSTAMP:20260421T190055Z
SUMMARY:Mimi Rabson’s Strings Theory Trio--Chamber Music With An Imp
 rovisational Edge  on January 20.
DESCRIPTION:Mimi Rabson’s String Theory Trio, Boston's fiercest stri
 ng trio improvises chamber music. Mimi Rabson and Alishah Raven, violi
 ns, and Junko Fujiwara ,‘cello, present repertoire of new chamber mu
 sic that includes improvisation for string trio. Drawing inspiration f
 rom Lawrence \"Butch\" Morris and Walter Thompson, this trio combines 
 composition and directed improvisation. Each player brings years of ex
 perience as classical players, composers and improvisors. Together the
 y play 21st century chamber music, on Sunday, January 20, 2013, at 3:0
 0 p.m. at the historic Loring-Greenough House, 12 South Street, Jamaic
 a Plain in the 13th season of the Sunday Afternoon at the ‘Greenough
  House Parlor Concert Series. For more information see: http://www.mee
 mzmusic.comMeet the trio at afternoon tea following the program.   
 The Sunday Afternoon at the ‘Greenough House series recreates the a
 tmosphere of 18th and 19th century “musical afternoons” in the 176
 0 Loring-Greenough House, twice monthly, October to May. Tickets are a
 vailable at the door: donation $15 ($10 seniors, students and JPTC mem
 bers). Space is limited; reservations are suggested—call 617-524-315
 8 or email lghouseconcerts@aim.com.\n\nFor more information visit http
 ://neighborsforneighbors.org/events/mimi-rabson-s-strings-theory-trio-
 chamber-music-with-an
DTSTART:20130120T200000Z
DTEND:20130120T223000Z
CATEGORIES:parlor, concert, and, tea
LOCATION:Loring-Greenough House,
WEBSITE:http://www.Loring-Greenough.org
URL:http://www.Loring-Greenough.org
CONTACT:617-524-3158
ORGANIZER;CN="Loring-Greenough House Concerts":http://neighborsforneig
 hbors.org/profile/LoringGreenoughHouseConserts
ATTACH;FMTTYPE="image/jpeg":
ATTENDEE;ROLE=REQ-PARTICIPANT;PARTSTAT=ACCEPTED;RSVP=TRUE;CN="Loring-G
 reenough House Concerts":http://neighborsforneighbors.org/profile/Lori
 ngGreenoughHouseConserts
END:VEVENT
END:VCALENDAR
