BEGIN:VCALENDAR
PRODID:NingEventWidget-v1
VERSION:2.0
METHOD:PUBLISH
BEGIN:VEVENT
UID:1171189:Event:107410
DTSTAMP:20260421T203952Z
SUMMARY:Mimi Rabson’s Strings Theory Trio,  With special guests, Ber
 klee’s FISE–Free Improvisation String Ensemble.
DESCRIPTION:Mimi Rabson’s String Theory Trio, Boston's fiercest stri
 ng trio improvises chamber music, with special guests Berklee’s  Fr
 ee Improvisation String Ensemble . Mimi Rabson and Alishah Raven, 5-st
 ring violins, and Junko Fujiwara ,‘cello, present repertoire of new 
 chamber music that includes improvisation for string trio. Drawing ins
 piration from Lawrence \"Butch\" Morris and Walter Thompson, this trio
  combines composition and directed improvisation. Each player brings y
 ears of experience as classical players, composers and improvisors. To
 gether they play 21st century chamber music, on Sunday, April 6, 2014,
  at 3:00 p.m. at the historic Loring-Greenough House, 12 South Street,
  Jamaica Plain in the 14th season of the Sunday Afternoon at the ‘Gr
 eenough House Parlor Concert Series.    Meet the trio and their gue
 sts at afternoon tea following the program.    The Sunday Afternoon
  at the ‘Greenough House series recreates the atmosphere of 18th and
  19th century “musical afternoons” in the 1760 Loring-Greenough Ho
 use, twice monthly, October to May. Tickets are available at the door:
  donation $15 ($10 seniors, students and JPTC members). Space is limit
 ed; reservations are suggested—call 617-524-3158 or email lghousecon
 certs@aim.com\n\nFor more information visit http://neighborsforneighbo
 rs.org/events/mimi-rabson-s-strings-theory-trio-with-special-guests-be
 rklee-s
DTSTART:20140406T190000Z
DTEND:20140406T213000Z
CATEGORIES:parlor, concert, and, tea
LOCATION:Loring-Greenough House,
WEBSITE:http://www.Loring-Greenough.org
URL:http://www.Loring-Greenough.org
CONTACT:617-524-3158
ORGANIZER;CN="Loring-Greenough House Concerts":http://neighborsforneig
 hbors.org/profile/LoringGreenoughHouseConserts
ATTACH;FMTTYPE="image/jpeg":http://storage.ning.com/topology/rest/1.0/
 file/get/2245142201?profile=original
ATTENDEE;ROLE=REQ-PARTICIPANT;PARTSTAT=ACCEPTED;RSVP=TRUE;CN="Loring-G
 reenough House Concerts":http://neighborsforneighbors.org/profile/Lori
 ngGreenoughHouseConserts
END:VEVENT
END:VCALENDAR
