BEGIN:VCALENDAR
PRODID:NingEventWidget-v1
VERSION:2.0
METHOD:PUBLISH
BEGIN:VEVENT
UID:1171189:Event:89914
DTSTAMP:20260421T185627Z
SUMMARY:MINE FOREVER - Photo Studio
DESCRIPTION:Coco Baby invites the French photographer Bénédicte Lass
 alle on Friday June 8 , 2012 (12-6pm) and Saturday June 9, 2012 (9am-2
 pm) to take the portrait of your child’s best friend to create a uni
 que piece of art for the decoration your child’s bedroom.\n\nWhy Min
 e Forever ? because Bénédicte and Coco baby have the feeling that yo
 ur child’s best friend is part of our history, never forgotten, some
 where between reality and imagination, safety and adventure. He is eve
 rything that is possible and awakens all the expectations. He is the c
 onfidant of all the feelings, sometimes cuddled, sometimes manhandled.
  He is present in all the circumstances. This is why we do honor to hi
 m.\n\nReservations : benedictelassalle@me.com\n\nFor more information 
 visit http://neighborsforneighbors.org/events/mine-forever-photo-studi
 o
DTSTART:20120608T160000Z
DTEND:20120609T180000Z
CATEGORIES:photo, studio
LOCATION:Coco Baby
WEBSITE:http://www.benedictelassalle.com
URL:http://www.benedictelassalle.com
CONTACT:617-416-8348
ORGANIZER:Benedicte Lassalle & Nicole Vale
ATTACH;FMTTYPE="image/jpeg":http://storage.ning.com/topology/rest/1.0/
 file/get/2245141217?profile=original
ATTENDEE;ROLE=REQ-PARTICIPANT;PARTSTAT=ACCEPTED;RSVP=TRUE;CN="Benedict
 e Lassalle":http://neighborsforneighbors.org/profile/BenedicteLassalle
END:VEVENT
END:VCALENDAR
