BEGIN:VCALENDAR
PRODID:NingEventWidget-v1
VERSION:2.0
METHOD:PUBLISH
BEGIN:VEVENT
UID:1171189:Event:89642
DTSTAMP:20260421T213742Z
SUMMARY:Monthly Crime Meeting
DESCRIPTION:District 13 monthly community meeting to be held this mont
 h at Curtis Hall Community Center on South St in JP. Please join us fo
 r a monthly review of crime stats in and around JP. Find out what's ha
 ppening in your neighborhood. This month's special presentation by Dis
 trict 13 detectives; \"Be a witness, solve a crime\". All welcome\n\nF
 or more information visit http://neighborsforneighbors.org/events/mont
 hly-crime-meeting
DTSTART:20120503T230000Z
DTEND:20120504T000000Z
CATEGORIES:community, meeting
LOCATION:Curtis Hall Community Center
WEBSITE:
URL:
CONTACT:
ORGANIZER;CN="Officer William Jones Dst 13 CSO":http://neighborsfornei
 ghbors.org/profile/WilliamJones
ATTACH;FMTTYPE="image/jpeg":
ATTENDEE;ROLE=REQ-PARTICIPANT;PARTSTAT=ACCEPTED;RSVP=TRUE;CN="Officer 
 William Jones Dst 13 CSO":http://neighborsforneighbors.org/profile/Wil
 liamJones
END:VEVENT
END:VCALENDAR
