BEGIN:VCALENDAR
PRODID:NingEventWidget-v1
VERSION:2.0
METHOD:PUBLISH
BEGIN:VEVENT
UID:1171189:Event:78873
DTSTAMP:20260421T200927Z
SUMMARY:Moving Planet
DESCRIPTION:Dear JP Neighbors, We hope you'll join us for 350.org's Mo
 ving Planet event on September 24th, where local groups from 150+ coun
 tries will be parading to their capitals to send one big, brash, beaut
 iful statement: We have the power to build a secure, healthy, just and
  sustainable future for our children and our planet!  That afternoon 
 here in JP, we're organizing a Parade of Solutions, where we'll bike, 
 skate, stilt walk, sing, drum, and dance our way downtown, visually hi
 ghlighting the ways we know our Jamaica Plain can be, and already is, 
 moving beyond fossil fuels.\n\nFor more information visit http://neigh
 borsforneighbors.org/events/moving-planet
DTSTART:20110924T180000Z
DTEND:20110924T220000Z
CATEGORIES:parade, and, rally
LOCATION:Jamaica Plain to Columbus Park near the Aquarium
WEBSITE:http://moving-newengland.org
URL:http://moving-newengland.org
CONTACT:
ORGANIZER:Jamaica Plain Moving Planet Committee
ATTACH;FMTTYPE="image/jpeg":
ATTENDEE;ROLE=REQ-PARTICIPANT;PARTSTAT=ACCEPTED;RSVP=TRUE;CN=Ninya:htt
 p://neighborsforneighbors.org/profile/Ninya
END:VEVENT
END:VCALENDAR
