BEGIN:VCALENDAR
PRODID:NingEventWidget-v1
VERSION:2.0
METHOD:PUBLISH
BEGIN:VEVENT
UID:1171189:Event:106612
DTSTAMP:20260421T221248Z
SUMMARY:Musical Theatre \"All Stirred Up!”: A Recipe for Community, 
 March 7 & 8, 2014
DESCRIPTION:Musical Theatre \"All Stirred Up!”: A Recipe for Communi
 ty, March 7 & 8, 2014Children from the Neighborhood School Jamaica Pla
 in, a much loved local school, did their research at the Egleston Farm
 ers market and Crop Circle Kitchen to develop a musical play about Com
 munity building, farmers' markets and local businesses. I would be ver
 y grateful if you could spread the word and come with your family and 
 friends. In “All Stirred Up!”, the process of starting local, foo
 d-basedbusinesses gets a bit sticky when a shared commercial kitchen i
 s the meeting ground. Will competition or cooperation rule? Will a hop
 ed-for Farmers Market be ready to launch? Join us as NS students share
  a musical recipe for community-building, with dramatic flair and plen
 ty of fun for all ages! Admission is by donation at the door.When: Fri
 day, March 7 @ 7 p.m. and Saturday, March 8 matinee @ 3 p.m.Where: Mai
 nstage Theatre, Roxbury Community College Media Arts Center, 1234 Colu
 mbus Ave., BostonWho: Suitable for school-age children and adultsHow: 
 Admission by donation at the doorYou can sign up via https://www.face
 book.com/events/219039071619164/ and https://www.facebook.com/events
 /394502237353053/\n\nFor more information visit http://neighborsfornei
 ghbors.org/events/musical-theatre-all-stirred-up-a-recipe-for-communit
 y-march-7-8
DTSTART:20140308T000000Z
DTEND:20140308T020000Z
CATEGORIES:musical, theatre, family, event
LOCATION:Mainstage Theatre, Roxbury Community College Media Arts Cente
 r
WEBSITE:http://www.rccmainstage.com/welcome/directions.html
URL:http://www.rccmainstage.com/welcome/directions.html
CONTACT:
ORGANIZER:Neighborhood School Jamaica Plain
ATTACH;FMTTYPE="image/jpeg":http://storage.ning.com/topology/rest/1.0/
 file/get/2245142340?profile=original
ATTENDEE;ROLE=REQ-PARTICIPANT;PARTSTAT=ACCEPTED;RSVP=TRUE;CN="Christin
 e Fischer-Rothman":http://neighborsforneighbors.org/profile/ChristineF
 ischerRothman
END:VEVENT
END:VCALENDAR
