BEGIN:VCALENDAR
PRODID:NingEventWidget-v1
VERSION:2.0
METHOD:PUBLISH
BEGIN:VEVENT
UID:1171189:Event:49207
DTSTAMP:20260421T184119Z
SUMMARY:National Night Out 2010!
DESCRIPTION:The 27th annual National Night Out 2010 Boston is a citywi
 de celebration that cultivates and strengthens partnerships between th
 e community, youth, police, city agencies and community-based organiza
 tions. The event also acknowledges the contributions that Neighborhood
  Watch groups make to Boston’s safety and it fosters community parti
 cipation.\n\nFor more information visit http://neighborsforneighbors.o
 rg/events/national-night-out-2010
DTSTART:20100803T210000Z
DTEND:20100804T000000Z
CATEGORIES:"police/community"
LOCATION:Franklin Park Zoo
WEBSITE:
URL:
CONTACT:
ORGANIZER:BPD Neighborhood Watch Unit
ATTACH;FMTTYPE="image/jpeg":
ATTENDEE;ROLE=REQ-PARTICIPANT;PARTSTAT=ACCEPTED;RSVP=TRUE;CN="Carolyn 
 MacNeil":http://neighborsforneighbors.org/profile/CarolynMacNeil
END:VEVENT
END:VCALENDAR
