BEGIN:VCALENDAR
PRODID:NingEventWidget-v1
VERSION:2.0
METHOD:PUBLISH
BEGIN:VEVENT
UID:1171189:Event:76911
DTSTAMP:20260421T182232Z
SUMMARY:Neighbors Night Out
DESCRIPTION:Join your neighbors for a great night of FREE music, perfo
 rmances, food, activities for children and MORE!\n \n\nFor more infor
 mation visit http://neighborsforneighbors.org/events/neighbors-night-o
 ut
DTSTART:20110729T210000Z
DTEND:20110730T000000Z
CATEGORIES:free, family, event
LOCATION:Egleston Square YMCA , Roxbury
WEBSITE:http://www.facebook.com/#!/event.php?eid=227714993935061
URL:http://www.facebook.com/#!/event.php?eid=227714993935061
CONTACT:617-372-7273
ORGANIZER:District E-13, the Egleston Square YMCA, JPNDC, Teen Empower
 ment,
ATTACH;FMTTYPE="image/jpeg":http://storage.ning.com/topology/rest/1.0/
 file/get/2245134787?profile=original
ATTENDEE;ROLE=REQ-PARTICIPANT;PARTSTAT=ACCEPTED;RSVP=TRUE;CN="Betsy Co
 wan":http://neighborsforneighbors.org/profile/BetsyCowan
END:VEVENT
END:VCALENDAR
