BEGIN:VCALENDAR
PRODID:NingEventWidget-v1
VERSION:2.0
METHOD:PUBLISH
BEGIN:VEVENT
UID:1171189:Event:89917
DTSTAMP:20260421T180839Z
SUMMARY:New Balance 5K Run for Recess Benefiting Playworks!
DESCRIPTION:5k and 1-mile fun run, $25 to enter\nDay-of registration 
 opens at 8:30 am\nFamily Friendly event in Franklin Park - get active 
 for a good cause! Supports Playworks, an incredible JP non-profit tha
 t brings PLAY back to the playground at low-income elementary schools!
 \n\nFor more information visit http://neighborsforneighbors.org/events
 /new-balance-5k-run-for-recess-benefiting-playworks
DTSTART:20120512T123000Z
DTEND:20120512T153000Z
CATEGORIES:fundraiser, community, run, fitness
LOCATION:Franklin Park, Playstead Field
WEBSITE:http://www.playworks.org/make-recess-count/play/boston/run-for
 -recess-2012
URL:http://www.playworks.org/make-recess-count/play/boston/run-for-rec
 ess-2012
CONTACT:6172494267
ORGANIZER:Playworks Metro Boston
ATTACH;FMTTYPE="image/jpeg":
ATTENDEE;ROLE=REQ-PARTICIPANT;PARTSTAT=ACCEPTED;RSVP=TRUE;CN=Kim:http:
 //neighborsforneighbors.org/profile/Kim505
END:VEVENT
END:VCALENDAR
