BEGIN:VCALENDAR
PRODID:NingEventWidget-v1
VERSION:2.0
METHOD:PUBLISH
BEGIN:VEVENT
UID:1171189:Event:41441
DTSTAMP:20260422T030905Z
SUMMARY:NEW: Basic Repairs & Maintenance Sampler Class
DESCRIPTION:Everything except the flats. This hands-on class covers ba
 sic adjustments and repairs to your bike, including basic gear and bra
 ke adjustments, sizing, and wheel true. Class size is limited to 7 peo
 ple. Cost: $30/person. Call 617-524-BIKE or stop by the shop to regist
 er.\n\nFor more information visit http://neighborsforneighbors.org/eve
 nts/new-basic-repairs-maintenance
DTSTART:20100422T231500Z
DTEND:20100423T010000Z
CATEGORIES:workshop
LOCATION:Ferris Wheels Bike Shop
WEBSITE:http://www.ferriswheelsbikeshop.com
URL:http://www.ferriswheelsbikeshop.com
CONTACT:617-524-2453
ORGANIZER;CN="Ferris Wheels Bike Shop":http://neighborsforneighbors.or
 g/profile/FerrisWheelsBikeShop
ATTACH;FMTTYPE="image/jpeg":
ATTENDEE;ROLE=REQ-PARTICIPANT;PARTSTAT=ACCEPTED;RSVP=TRUE;CN="Ferris W
 heels Bike Shop":http://neighborsforneighbors.org/profile/FerrisWheels
 BikeShop
END:VEVENT
END:VCALENDAR
