BEGIN:VCALENDAR
PRODID:NingEventWidget-v1
VERSION:2.0
METHOD:PUBLISH
BEGIN:VEVENT
UID:1171189:Event:90444
DTSTAMP:20260421T190055Z
SUMMARY:New! Circle the City: Open Parks / Open Streets
DESCRIPTION:Kick-off event for Boston’s own Cyclovia: healthy food, 
 games, yoga, sports, fitness, free bike rentals, and arts for all ages
  on the Franklin Park Playstead ballfields next to the back of the Zoo
 . Kickball tournament organized by Hike4Life. Boston Pops Brass Ensemb
 le at 4:00pm at the Elma Lewis Playhouse in the Park. Brought to you b
 y the Emerald Necklace Conservancy, Liveable Streets Alliance, Boston 
 Collaborative for Food & Fitness, the Franklin Park Coalition, and the
  City of Boston. For more info and directions: www.franklinparkcoaliti
 on.org or 617-442-4141.\n\nFor more information visit http://neighbors
 forneighbors.org/events/new-circle-the-city-open-parks-open-streets
DTSTART:20120624T170000Z
DTEND:20120624T210000Z
CATEGORIES:festival
LOCATION:Franklin Park and Jamaica Pond
WEBSITE:http://www.franklinparkcoalition.org
URL:http://www.franklinparkcoalition.org
CONTACT:617-442-4141
ORGANIZER:Franklin Park Coalition
ATTACH;FMTTYPE="image/jpeg":
ATTENDEE;ROLE=REQ-PARTICIPANT;PARTSTAT=ACCEPTED;RSVP=TRUE;CN="Christin
 e Poff":http://neighborsforneighbors.org/profile/ChristinePoff67
END:VEVENT
END:VCALENDAR
