BEGIN:VCALENDAR
PRODID:NingEventWidget-v1
VERSION:2.0
METHOD:PUBLISH
BEGIN:VEVENT
UID:1171189:Event:60075
DTSTAMP:20260421T203722Z
SUMMARY:New Years Eve Bash
DESCRIPTION:Advance tickets available here: http://www.showclix.com/ev
 ent/15082/\nThe Lee Wilson Movement & UtopiaBostonRadio.com present Ne
 w Years Eve at the Milky Way\nFeaturing DJs: Bruno, KC Hallett, & Cruz
 z\nLive Performance by: The Lee Wilson Movement (http://www.facebook.c
 om/leewilsonmusic)\nLive Painting by: The Invisible Man\nParty Favors 
 & Gift Bags\nAdvance tickets on sale now at: http://www.showclix.com\n
 or\nSalmagundi\n765 Centre Street, Jamaica Plain\n(617)-522-5047\n\nFo
 r more information visit http://neighborsforneighbors.org/events/new-y
 ears-eve-bash
DTSTART:20110101T030000Z
DTEND:20110101T070000Z
CATEGORIES:new, years, celebration
LOCATION:Milky Way Lounge
WEBSITE:http://www.milkywayjp.com
URL:http://www.milkywayjp.com
CONTACT:617-524-3740
ORGANIZER;CN="Carol Downs":http://neighborsforneighbors.org/profile/Ca
 rolDowns
ATTACH;FMTTYPE="image/jpeg":http://storage.ning.com/topology/rest/1.0/
 file/get/2245131681?profile=original
ATTENDEE;ROLE=REQ-PARTICIPANT;PARTSTAT=ACCEPTED;RSVP=TRUE;CN="Carol Do
 wns":http://neighborsforneighbors.org/profile/CarolDowns
END:VEVENT
END:VCALENDAR
