BEGIN:VCALENDAR
PRODID:NingEventWidget-v1
VERSION:2.0
METHOD:PUBLISH
BEGIN:VEVENT
UID:1171189:Event:109836
DTSTAMP:20260421T185839Z
SUMMARY:Newton Jingle Bell Run/Walk
DESCRIPTION:Newton Jingle Bell Run/WalkSunday November 23 2014The Fess
 enden School250 Waltham StreetNewton, MA 02460\n9AM-12:30PMJulia Willi
 ams617-762-2128jwilliams@arthritis.org\nSIGN UP AND FUNDRAISE TODAY!Jo
 in us on November 23rd for the Newton Jingle Bell Run/Walk! Be part of
  the largest holiday 5K race series aimed to fight arthritis!Chosen as
  one of the Most Incredible Themed Races, Jingle Bell Run/Walk for Art
 hritis is a fun and festive way to kick off your holidays by helping o
 thers!Wear a holiday themed costume. Tie jingle bells to your shoelace
 s. Raise funds to help find a cure for arthritis, the nation’s leadi
 ng cause of disability. Run or walk a 5 kilometer route with your team
  members and celebrate the season by giving. Children meet Santa Claus
  himself! 5k timed Run/WalkMedals for Women, Men and Youth100 meter Sa
 nta Dash for Kids 12 and UnderCostume ContestsPrizes for top fundraise
 rs\nREGISTER AT: www.NewtonJBR.kintera.org\nKey Words: arthritis, walk
 , run, race, exercise, children, kids, adults, family, outside, fundra
 ise, disability, christmas, holiday, jingle, santa\n\nFor more informa
 tion visit http://neighborsforneighbors.org/events/newton-jingle-bell-
 run-walk
DTSTART:20141123T140000Z
DTEND:20141123T173000Z
CATEGORIES:fundraiser
LOCATION:The Fessenden School
WEBSITE:http://www.NewtonJBR.kintera.org
URL:http://www.NewtonJBR.kintera.org
CONTACT:
ORGANIZER:Arthritis Foundation
ATTACH;FMTTYPE="image/jpeg":
ATTENDEE;ROLE=REQ-PARTICIPANT;PARTSTAT=ACCEPTED;RSVP=TRUE;CN="Robin Ma
 xcy":http://neighborsforneighbors.org/profile/RobinMaxcy
END:VEVENT
END:VCALENDAR
