BEGIN:VCALENDAR
PRODID:NingEventWidget-v1
VERSION:2.0
METHOD:PUBLISH
BEGIN:VEVENT
UID:1171189:Event:58751
DTSTAMP:20260421T201738Z
SUMMARY:Nia Classes
DESCRIPTION:Nia is a meditative dance that is practiced in bare feet. 
 It fuses elements of modern dance, jazz, and Duncan with the martial a
 rts, yoga and the healing arts. There are no technical skills or dance
  background required.Nia classes are a celebration of the joy of movem
 ent and they are _so_ much fun! We will be dancing to an eclectic mix 
 of world music, new age, fun indie-rock and dance music. $13 per class
  or $45 for a four-class card. Cash or check only.Classes meet Thursda
 ys at 7:30pm. Hope to see you there!\n\nFor more information visit htt
 p://neighborsforneighbors.org/events/nia-classes
DTSTART:20110128T003000Z
DTEND:20110128T013000Z
CATEGORIES:dance, class
LOCATION:Spontaneous Celebrations
WEBSITE:
URL:
CONTACT:973.479.2012
ORGANIZER;CN="Liz Doran":http://neighborsforneighbors.org/profile/LizD
 oran
ATTACH;FMTTYPE="image/jpeg":http://storage.ning.com/topology/rest/1.0/
 file/get/2159724651?profile=original
ATTENDEE;ROLE=REQ-PARTICIPANT;PARTSTAT=ACCEPTED;RSVP=TRUE;CN="Liz Dora
 n":http://neighborsforneighbors.org/profile/LizDoran
END:VEVENT
END:VCALENDAR
