BEGIN:VCALENDAR
PRODID:NingEventWidget-v1
VERSION:2.0
METHOD:PUBLISH
BEGIN:VEVENT
UID:1171189:Event:105945
DTSTAMP:20260421T185628Z
SUMMARY:Nick Cutroneo: Classical Guitar
DESCRIPTION:Guitarist Nick Cutroneo presents a program of works by J.S
 . Bach, Benjamin Britten, Mario Castelnuovo-Tedesco, Andrew York and I
 saac Albeniz in the Sunday Parlor Concert Series at the Loring Greenou
 gh House, on Sunday, January 19, 2014, at 3:00 p.m., at the historic L
 oring-Greenough House, 12 South Street, Jamaica Plain MA.Meet Mr. Cutr
 oneo at afternoon tea following the program.    The Sunday Afternoo
 n at the ‘Greenough House series recreates the atmosphere of 18th an
 d 19th century “musical afternoons” in the 1760 Loring-Greenough H
 ouse, twice monthly, October to May. Tickets are available at the door
 : donation $15 ($10 seniors, students and JPTC members). Space is limi
 ted; reservations are suggested—call 617-524-3158 or email lghouseco
 ncerts@aim.com.Known for being a \"communicative player with natural m
 usicality,\" Nick Cutroneo is an up and coming classical guitarist of 
 the new generation. An active performer, Mr. Cutroneo has played conce
 rts throughout the United States and Italy. Mr. Cutroneo was chosen to
  perform Tedesco’s Quintet for Guitar and String Quartet with the Ha
 rtt School’s string quartet-in-residence, the Miami String Quartet d
 uring the spring of 2009. He was also named finalist in the Hartt Scho
 ol’s 2008 Paranov Concerto Competition and semifinalist at the Bosto
 n GuitarFest 2008. An active chamber musician, Mr. Cutroneo is co-foun
 der of the violin and guitar duo Tempo del Fuoco and the New England G
 uitar Quartet. Mr. Cutroneo attended the Pre-College division at the J
 uilliard School of Music and studied with Antigoni Goni. He completed 
 his both his Masters and Bachelors in Classical Guitar Performance at 
 The Hartt School of Music studying with Richard Provost. Mr. Cutroneo 
 was also a member of the prestigious Performance 20/20 chamber program
 . Mr. Cutroneo currently the Chair of the Guitar Department at the Tal
 ent Education Suzuki School in Norwalk, CT. For more information visit
  Nick Cutroneo’s website: www.nickcutroneo.comBuilt in 1760, the Lor
 ing-Greenough House, a local landmark listed on the Massachusetts and 
 National Registers of Historic Places, is located at 12 South Street (
 at the Civil War Monument) in Jamaica Plain, MA. It is owned and manag
 ed by the non-profit Jamaica Plain Tuesday Club, Inc. as a historic ho
 use museum and site for art and music presentations. The Loring-Greeno
 ugh House is wheelchair accessible. For more information on the Loring
 -Greenough House, see www.loring-greenough.org.For reservations or dir
 ections, call (617)524-3158, or email  lghouseconcerts@aim.com.\n\nFo
 r more information visit http://neighborsforneighbors.org/events/nick-
 cutroneo-classical-guitar
DTSTART:20140119T200000Z
DTEND:20140119T223000Z
CATEGORIES:parlor, concert, and, tea
LOCATION:Loring-Greenough House,
WEBSITE:http://www.Loring-Greenough.org
URL:http://www.Loring-Greenough.org
CONTACT:617-524-3158
ORGANIZER;CN="Loring-Greenough House Concerts":http://neighborsforneig
 hbors.org/profile/LoringGreenoughHouseConserts
ATTACH;FMTTYPE="image/jpeg":http://storage.ning.com/topology/rest/1.0/
 file/get/2245149688?profile=original
ATTENDEE;ROLE=REQ-PARTICIPANT;PARTSTAT=ACCEPTED;RSVP=TRUE;CN="Loring-G
 reenough House Concerts":http://neighborsforneighbors.org/profile/Lori
 ngGreenoughHouseConserts
END:VEVENT
END:VCALENDAR
