BEGIN:VCALENDAR
PRODID:NingEventWidget-v1
VERSION:2.0
METHOD:PUBLISH
BEGIN:VEVENT
UID:1171189:Event:105046
DTSTAMP:20260421T190539Z
SUMMARY:Noel Holiday  Concert -- The Pioneer Consort at Loring-Greenou
 gh House
DESCRIPTION:The Pioneer Consort will perform the 5th annual New Englan
 d Noel, a holiday concert featuring music from their Noel Holiday disc
  and \"World View\" CD and some new arrangements, on Sunday, December 
 15, 2013, at 3:00 p.m. at the historic Loring-Greenough House, 12 Sout
 h Street, Jamaica Plain.As in their debut release, World View,  Noel 
 traverses the globe to gather its styles and sounds, and features a wi
 de variety of instrumentation and sparkling arrangements celebrating t
 he winter holidays.  A quote from the liner notes summarizes their vi
 sion:  \"We wanted to arrange and record in a way that would evoke a 
 band of Renaissance minstrels, an Appalachian cabin, a Native American
  fireside, even a shipboard flagon of Yuletide mead on a storm-tossed 
 sea far from home. We chose to play a combination of the very familiar
  and more obscure, sometimes rustic, sometimes polished, but always au
 thentic.\" The Pioneer Consort are: Michael Nix, guitars, banjar, mand
 olin; Chris Devine violin, viola, mandolin, recorders, flute; and Greg
  Snedeker, cello, piano and melodica. CDs will be available at www.Pio
 neerConsort.com, CDBaby.com,  and at the performance.Meet the musicia
 ns of the Pioneer Consort and their guests at afternoon tea following 
 the program.The Sunday Afternoon at the ‘Greenough House series recr
 eates the atmosphere of 18th and 19th century “musical afternoons”
  in the 1760 Loring-Greenough House, twice monthly, October to May. Ti
 ckets are available at the door: donation $15 ($10 seniors, students a
 nd JPTC members). Space is limited; reservations are suggested—call 
 617-524-3158 or email lghouseconcerts@aim.com\n\nFor more information 
 visit http://neighborsforneighbors.org/events/noel-holiday-concert-the
 -pioneer-consort-at-loring-greenough-1
DTSTART:20131215T200000Z
DTEND:20131215T223000Z
CATEGORIES:parlor, concert, and, tea
LOCATION:Loring-Greenough House,
WEBSITE:http://www.Loring-Greenough.org
URL:http://www.Loring-Greenough.org
CONTACT:617-524-3158
ORGANIZER;CN="Loring-Greenough House Concerts":http://neighborsforneig
 hbors.org/profile/LoringGreenoughHouseConserts
ATTACH;FMTTYPE="image/jpeg":http://storage.ning.com/topology/rest/1.0/
 file/get/2245140152?profile=original
ATTENDEE;ROLE=REQ-PARTICIPANT;PARTSTAT=ACCEPTED;RSVP=TRUE;CN="Loring-G
 reenough House Concerts":http://neighborsforneighbors.org/profile/Lori
 ngGreenoughHouseConserts
END:VEVENT
END:VCALENDAR
