BEGIN:VCALENDAR
PRODID:NingEventWidget-v1
VERSION:2.0
METHOD:PUBLISH
BEGIN:VEVENT
UID:1171189:Event:40631
DTSTAMP:20260421T203253Z
SUMMARY:notloB Parlour Concerts presents JIM HURST
DESCRIPTION:Note date change, now 5/15/10.\n\nTwo-time IBMA guitarist 
 of the year, multi-award winning guitarist in Bluegrass, as well as co
 untry, and other acoustic music genres, Jim is known throughout the Na
 shville TN area as one of the best in the business. His talents of sin
 ging, multi-instrumentalist abilities and well-rounded stylings have g
 arnered him support positions and recording sessions with some of the 
 best artists in Country and Bluegrass music. Trisha Yearwood, Sara Eva
 ns, Holly Dunn, Claire Lynch, Travis Tritt, John Cowan, Mark Schatz, T
 im O'Brien and more.\n\nhttp://www.jimhurst.com/\n\n“Jim is what I c
 onsider genius level as a player and a thinker.”\n~ Claire Lynch\n\n
 \nSuggested donation $20- at the door; $15- if reservation is made at 
 least 24 hours in advance and Tuesday Club members; $12- for students 
 and seniors; $50 - max on families. Addition of a $1/person “preserv
 ation fee” that goes to the LG House.\n\nDoors 7:00pm, Concert 7:30p
 m.\n\nFor more information about these and other concerts in Somervill
 e, Newton and Grafton go to the notloB website ~ http://sites.google.c
 om/site/notlobmusic\nnotloB Folk Concerts (Somerville, Newton and Some
 rville) are volunteer run and not for profit.\nMailing list ~ http://g
 roups.google.com/group/notlobmusic\nFacebook ~ http://www.facebook.com
 /group.php?gid=38565709718&ref=ts\n\nnotfarG House Concerts (Grafton) 
 ~100% of the donations go to the artists.\nMailing list ~ http://www.r
 everbnation.com/venue/431454\nFacebook ~ http://www.facebook.com/group
 .php?gid=147864099159&ref=ts\n\"In this era of pop-driven acoustic mus
 ic, notloB is keeping the folk tradition alive.\" ~ Jack Hardy\n\n“\
 "From a musician's perspective, I really appreciate the effort Jeff pu
 ts into his shows. Nobody on the Boston folk scene works harder to pul
 l a concert together.\"\n~ Alastair Moock, in an article written by Jo
 nathan Perry, published in The Boston Globe\n\nPLEASE DO NOT CALL THE 
 LORING GREENOUGH HOUSE. Questions/reservations to notlobreservations @
 gmail.com\n\nFor more information visit http://neighborsforneighbors.o
 rg/events/notlob-parlour-concerts-1
DTSTART:20100515T233000Z
DTEND:20100516T013000Z
CATEGORIES:concert
LOCATION:Loring Greenough House
WEBSITE:http://sites.google.com/site/notlobmusic/
URL:http://sites.google.com/site/notlobmusic/
CONTACT:n/a
ORGANIZER;CN="Jeff Boudreau":http://neighborsforneighbors.org/profile/
 JeffBoudreau
ATTACH;FMTTYPE="image/jpeg":http://storage.ning.com/topology/rest/1.0/
 file/get/2202585946?profile=original
ATTENDEE;ROLE=REQ-PARTICIPANT;PARTSTAT=ACCEPTED;RSVP=TRUE;CN="Jeff Bou
 dreau":http://neighborsforneighbors.org/profile/JeffBoudreau
END:VEVENT
END:VCALENDAR
