BEGIN:VCALENDAR
PRODID:NingEventWidget-v1
VERSION:2.0
METHOD:PUBLISH
BEGIN:VEVENT
UID:1171189:Event:54363
DTSTAMP:20260421T202242Z
SUMMARY:notloB Parlour Concerts Presents DAVID ROVICS
DESCRIPTION:\n\nDavid Rovics grew up in a family of classical musician
 s in Wilton, Connecticut, and became a fan of populist regimes early o
 n. By the early 90's he was a full-time busker in the Boston subways a
 nd by the mid-90's he was traveling the world as a professional flat-p
 icking rabble-rouser. These days David lives with his family in Portla
 nd, Oregon and tours regularly on four continents, playing for audienc
 es large and small at cafes,... pubs, universities, churches, union ha
 lls and protest rallies.\n\nDavid has shared the stage with a veritabl
 e of who's who of the left in two dozen countries, and has had his mus
 ic featured on Democracy Now!, BBC, Al-Jazeera and other networks. His
  essays are published regularly on CounterPunch elsewhere, and the 200
 + songs he makes available for free on the web have been downloaded mo
 re than a million times. Most importantly, he's really good. He will m
 ake you laugh, he will make you cry, he will make the revolution irres
 istible.\n\nhttp://www.davidrovics.com/\n\nSuggested donation $12 at t
 he door or just $10 if you make a reservation to notlobreservations at
  gmail dot com at least 24 hours in advance.\n\nnotloB Folk Concerts\n
 Website ~ http://sites.google.com/site/notlobmusic\nFacebook ~ http://
 www.facebook.com/pages/notloB-Folk-Concerts/118395891509908\nMail list
  ~ http://groups.google.com/group/notlobmusic\n\nIf you are interested
  in volunteering, please send and email to notlobreservations at gmail
  dot com\n\nNext Loring-Greenough House parlor concert will be TONY BI
 RD on Saturday, November 6.\n\nFor more information visit http://neigh
 borsforneighbors.org/events/notlob-parlour-concerts-2
DTSTART:20101028T000000Z
DTEND:20101028T020000Z
CATEGORIES:acoustic, concert
LOCATION:Loring-Greenough House
WEBSITE:http://maps.google.com/maps?f=q&source=s_q&hl=en&geocode=&q=12
 +South+Street,+Boston,+MA+02130&sll=37.0625,-95.677068&sspn=35.768112,
 93.076172&ie=UTF8&hq=&hnear=12+South+St,+Boston,+Suffolk,+Massachusett
 s+02130&z=16
URL:http://maps.google.com/maps?f=q&source=s_q&hl=en&geocode=&q=12+Sou
 th+Street,+Boston,+MA+02130&sll=37.0625,-95.677068&sspn=35.768112,93.0
 76172&ie=UTF8&hq=&hnear=12+South+St,+Boston,+Suffolk,+Massachusetts+02
 130&z=16
CONTACT:774-293-1251
ORGANIZER;CN="Jeff Boudreau":http://neighborsforneighbors.org/profile/
 JeffBoudreau
ATTACH;FMTTYPE="image/jpeg":http://storage.ning.com/topology/rest/1.0/
 file/get/2245135705?profile=original
ATTENDEE;ROLE=REQ-PARTICIPANT;PARTSTAT=ACCEPTED;RSVP=TRUE;CN="Jeff Bou
 dreau":http://neighborsforneighbors.org/profile/JeffBoudreau
END:VEVENT
END:VCALENDAR
