BEGIN:VCALENDAR
PRODID:NingEventWidget-v1
VERSION:2.0
METHOD:PUBLISH
BEGIN:VEVENT
UID:1171189:Event:92657
DTSTAMP:20260421T200722Z
SUMMARY:notloB Parlour Concerts presents August Watters and Jose Lezca
 no
DESCRIPTION:Together, August Watters and Jose Lezcano explore the vibr
 ant sounds of mandolin and guitar. From the indigenous musical traditi
 ons of Europe and Central and South America to the concert repertoire 
 of three centuries, the duo highlights the connections between folk mu
 sic traditions and more formal concert repertoire. Their timeless musi
 c captures a wide range of texture and emotion while aspiring to the h
 ighest standards of artistry and technique.\n Artists' websites: http:
 //www.berklee.edu/faculty/detail/august-wattersÂ &Â  http://www.august
 watters.net/ http://www.joselezcano.com/  Suggested donation $10-15 sl
 iding scale  + $1 preservation fee. 20% JPTC member discountÂ  reserva
 tion requests to notlobreservations at gmail dot com notloB website -Â
  https://sites.google.com/site/notlobmusic/  Coffee from JP Licks Past
 ries from Fiores  Please sign up for our concert announcements -Â http
 ://groups.google.com/group/notlobmusic \n\nFor more information visit 
 http://neighborsforneighbors.org/events/notlob-parlour-concerts-presen
 ts-august-watters-and-jose-lezcano
DTSTART:20121209T010000Z
DTEND:20121209T030000Z
CATEGORIES:concert
LOCATION:Loring-Greenough House
WEBSITE:http://goo.gl/maps/lA4xY
URL:http://goo.gl/maps/lA4xY
CONTACT:4136584585
ORGANIZER;CN="Jeff Boudreau":http://neighborsforneighbors.org/profile/
 JeffBoudreau
ATTACH;FMTTYPE="image/jpeg":http://storage.ning.com/topology/rest/1.0/
 file/get/2202595601?profile=original
ATTENDEE;ROLE=REQ-PARTICIPANT;PARTSTAT=ACCEPTED;RSVP=TRUE;CN="Jeff Bou
 dreau":http://neighborsforneighbors.org/profile/JeffBoudreau
END:VEVENT
END:VCALENDAR
