BEGIN:VCALENDAR
PRODID:NingEventWidget-v1
VERSION:2.0
METHOD:PUBLISH
BEGIN:VEVENT
UID:1171189:Event:92198
DTSTAMP:20260421T190338Z
SUMMARY:notloB Parlour Concerts presents Becky Tracy and Keith Murphy
DESCRIPTION:notloB Parlour Concerts presents Becky Tracy and Keith Mur
 phyBecky Tracy and Keith Murphyhttp://blackislemusic.com/\nBecky and K
 eith are dynamic performers of traditional music from Newfoundland, Qu
 ebec, Ireland, France and beyond. Tracy’s fiddling pulses through ta
 steful arrangements of dance tunes and resonates with beauty on tradit
 ional slow airs. Keith’s gentle and expressive singing in English an
 d French is balanced by the drive and power of his guitar playing and 
 foot percussion. Combined, they produce a range and richness of sound 
 that is striking for a duo. Their playing is seamless, the result of y
 ears of playing together and touring across the U.S., Canada and in Eu
 rope. Their repertoire also includes Keith’s original compositions (
 many of which are included in the Black Isle Music tune collection). H
 e is a prolific tunesmith with a writing style strongly based on tradi
 tional dance music. Keith and Becky were two thirds of the popular Ver
 mont trio, Nightingale and are veterans of several other bands includi
 ng Childsplay and Assembly (Keith) and Wild Asparagus (Becky). They ca
 n be heard on recordings of all these bands and many others. Becky rel
 eased her first solo recording, Evergreen, in 2001. Keith’s album, B
 ound For Canaan (traditional songs from Eastern Canada and New England
 ) was released in the summer of 2005 and he has recently rededicated h
 imself to his work as a solo performer.suggested donation $14-19 slidi
 ng scale+ $1 preservation fee reservation requests to notlobreservati
 ons at gmail dot comCoffee from JP LicksPastries from Fiores\n\n\n\n\n
 For more information visit http://neighborsforneighbors.org/events/not
 lob-parlour-concerts-presents-becky-tracy-and-keith-murphy
DTSTART:20121102T000000Z
DTEND:20121102T020000Z
CATEGORIES:concert
LOCATION:Loring-Greenough House
WEBSITE:https://sites.google.com/site/notlobmusic
URL:https://sites.google.com/site/notlobmusic
CONTACT:4136584585
ORGANIZER;CN="Jeff Boudreau":http://neighborsforneighbors.org/profile/
 JeffBoudreau
ATTACH;FMTTYPE="image/jpeg":http://storage.ning.com/topology/rest/1.0/
 file/get/2245140231?profile=original
ATTENDEE;ROLE=REQ-PARTICIPANT;PARTSTAT=ACCEPTED;RSVP=TRUE;CN="Jeff Bou
 dreau":http://neighborsforneighbors.org/profile/JeffBoudreau
END:VEVENT
END:VCALENDAR
