BEGIN:VCALENDAR
PRODID:NingEventWidget-v1
VERSION:2.0
METHOD:PUBLISH
BEGIN:VEVENT
UID:1171189:Event:93743
DTSTAMP:20260421T204143Z
SUMMARY:NotloB Parlour Concerts Presents Bronwyn Keith-Hynes & Catheri
 ne Bowness w/ George Clements
DESCRIPTION:Volunteer-run and not-for-profit notloB Parlour Concerts a
 pproaches its sixth year anniversary of presenting local and touring o
 ld-time, traditional and revival folk, Celtic, bluegrass and country b
 lues artists to audiences at the historic (and intimate – just 40 se
 ats) Loring-Greenough House, 12 South Street, Jamaica Plain by present
 ing rising young acoustic stars Bronwyn Keith-Hynes and Catherine Bown
 ess, supported by George Clements.BRONWYN KEITH-HYNEShttp://www.bronwy
 nkeithhynes.com/Bronwyn Keith-Hynes is an award-winning fiddler from C
 harlottesville, Virginia. She began fiddling at the age of three and h
 as studied with many wonderful musicians on the folk music scene inclu
 ding Beth Telford, Jerry Holland, Cleek Schrey, Matt Glaser, John McGa
 nn and Darol Anger. Bronwyn is a fluent player of Irish music, bluegra
 ss and old time music. She has performed throughout the U.S, Ireland a
 nd France and has traveled to Ireland extensively to study with local 
 traditional musicians. She has been featured on Irish RTE One televisi
 on and the Irish Comhaltas Live Programme. At the age of sixteen she w
 as awarded a scholarship to attend Berklee College of Music in Boston 
 and in December 2012 graduated with a professionaldiploma in violin pe
 rformance.\nCATHERINE BOWNESShttp://www.bbbowness.com/Catherine (BB) B
 owness has been playing the banjo for the last ten years making freque
 nt commutes from New Zealand to study, perform and teach banjo in the 
 USA. In 2006 she won the Uncle Dave Macon banjo contest in Murfreesbor
 o, Tennessee and was invited back in 2007 to tour with Colorado bluegr
 ass band, Long Road Home. BB has performed throughout New Zealand and 
 Australia with fellow bluegrass comrades, George Jackson and Daniel Wa
 tkins, in a banjo duet with Tenor banjoist, Alex Borwick and most rece
 ntly with Cy Winstanley and Vanessa McGowan of Tattletale Saints. In 2
 009, BB was the first banjo student to be accepted at the New Zealand 
 school of music where she completed a BMus majoring in Jazz Performanc
 e. Since graduating, BB has relocated to Boston, MA where she is perfo
 rming, teaching and enjoying an amazing acoustic music scene.GEORGE CL
 EMENTShttp://gwclements.tumblr.com/George Clements is a guitarist and 
 singer/songwriter from central Massachusetts. His musical influences i
 nclude folk, bluegrass, celtic, classical, and jazz. He is a current s
 tudent at Berklee College of Music and is an active player in the Root
 s Music program.Admission is by suggested donation, with 100% of the p
 roceeds going to the artists and to cover production costs. Coffee and
  pastries are provided by locally owned neighborhood businesses JP Lic
 ks and Fiores Bakery.Suggested concert donation $10 plus $1 preservati
 on fee20% discount for Loring-Greenough/JPTC membersSeparate admission
  fiddle, banjo and guitar workshops offered prior to the concert, $10 
 each - reservation required.Combined concert and workshop $18 regular,
  $15 member.Workshop info at https://www.facebook.com/events/26167948
 0628136/\n\nFor more information visit http://neighborsforneighbors.or
 g/events/notlob-parlour-concerts-presents-bronwyn-keith-hynes-catherin
 e
DTSTART:20130310T010000Z
DTEND:20130310T030000Z
CATEGORIES:concert
LOCATION:Loring-Greenough House
WEBSITE:http://goo.gl/maps/lA4xY
URL:http://goo.gl/maps/lA4xY
CONTACT:4136584585
ORGANIZER;CN="Jeff Boudreau":http://neighborsforneighbors.org/profile/
 JeffBoudreau
ATTACH;FMTTYPE="image/jpeg":http://storage.ning.com/topology/rest/1.0/
 file/get/2058922830?profile=original
ATTENDEE;ROLE=REQ-PARTICIPANT;PARTSTAT=ACCEPTED;RSVP=TRUE;CN="Jeff Bou
 dreau":http://neighborsforneighbors.org/profile/JeffBoudreau
END:VEVENT
END:VCALENDAR
