BEGIN:VCALENDAR
PRODID:NingEventWidget-v1
VERSION:2.0
METHOD:PUBLISH
BEGIN:VEVENT
UID:1171189:Event:96742
DTSTAMP:20260421T223930Z
SUMMARY:NotloB Parlour Concerts presents Dakota Dave Hull, rescheduled
  from 4/19
DESCRIPTION:\nnotloB Parlour Concerts presents\n\nDakota Dave Hull Fri
 day, April 19, 2013\nDoors 7:00, Concert 7:30\nLoring-Greenough House,
  12 South Street, Jamaica Plain\n \n\n\n“One of the best guitarists
  in the world.”\n—Dave Van Ronk\n“Hull is something of a guitar 
 god in his native midwest, where he’s been \ndazzling audiences for
  over 30 years with his lush ﬁnger-picking and quicksilver \nﬂat-
 picking. He is also a sly raconteur with an encyclopedic knowledge of 
 vintage \nAmerican music.”\n—Scott Alarik, Boston Globe, March 20
 04\n \nHailed by everyone from Dave Van Ronk to Doc Watson, from the 
 Washington Post to downbeat, Dakota Dave Hull’s guitar style spans 
 a wide musical geography to create an infectious, uniquely personal bl
 end of jazz, ragtime, folk, blues, Western swing, and vintage pop. Dak
 ota Dave is a restlessly curious, adventurous traveler along the broad
  highway of America’s music. In his playing the masters speak, but i
 n a vocabulary that is Dave’s alone: alternatively mirthful and movi
 ng, always melodic.A gifted composer as well as a strikingly original 
 interpreter of older tunes, Dave calls what he does “classic America
 n guitar.” Folk legend Van Ronk called Dave “one of the best guita
 rists in the world.”\n\nSuggested donation $20 at the door, $15 in a
 dvance. + $1 preservation fee. email notlobreservations at gmail dot c
 om\nCoffee from JP Licks\nPastries from Fiores Bakery\n\n\n\n\n\n\n\
 n\n\n\nFor more information visit http://neighborsforneighbors.org/eve
 nts/notlob-parlour-concerts-presents-dakota-dave-hull-rescheduled
DTSTART:20130425T233000Z
DTEND:20130426T013000Z
CATEGORIES:concert
LOCATION:Loring-Greenough House
WEBSITE:
URL:
CONTACT:
ORGANIZER;CN="Jeff Boudreau":http://neighborsforneighbors.org/profile/
 JeffBoudreau
ATTACH;FMTTYPE="image/jpeg":http://storage.ning.com/topology/rest/1.0/
 file/get/2245141278?profile=original
ATTENDEE;ROLE=REQ-PARTICIPANT;PARTSTAT=ACCEPTED;RSVP=TRUE;CN="Jeff Bou
 dreau":http://neighborsforneighbors.org/profile/JeffBoudreau
END:VEVENT
END:VCALENDAR
