BEGIN:VCALENDAR
PRODID:NingEventWidget-v1
VERSION:2.0
METHOD:PUBLISH
BEGIN:VEVENT
UID:1171189:Event:95751
DTSTAMP:20260421T223752Z
SUMMARY:NotloB Parlour Concerts presents Dakota Dave Hull, Workshop an
 d Concert
DESCRIPTION:Hailed by everyone from Dave Van Ronk to Doc Watson, from 
 the Washington Post to downbeat, Dakota Dave Hull’s guitar style spa
 ns a wide musical geography to create an infectious, uniquely personal
  blend of jazz, ragtime, folk, blues, Western swing, and vintage pop. 
 Dakota Dave is a restlessly curious, adventurous traveler along the br
 oad highway of America’s music. In his playing the masters speak, bu
 t in a vocabulary that is Dave’s alone: alternatively mirthful and m
 oving, always melodic.  A gifted composer as well as a strikingly orig
 inal interpreter of older tunes, Dave calls what he does “classic Am
 erican guitar.” Folk legend Van Ronk called Dave “one of the best 
 guitarists in the world.”  Most of all, Dakota Dave’s music is gre
 at fun. As Douglas Green (Ranger Doug of Riders in the Sky) puts it, 
 There is an imp within Dave Hull that always expresses itself on the
  fretboard; a witty, intelligent yet respectful imp who frolics in his
  music, an imp Dakota Dave neither fights nor lets take control, but s
 imply absorbs into the heart of his style.”  On stage or in the reco
 rding studio Dave has performed with Utah Phillips, Doc Watson, Robin 
 and Linda Williams, Dave Van Ronk, John Renbourn, Paul Geremia, Spider
  John Koerner, Cam Waters, Sally Rogers, Butch Thompson, Peter Ostrous
 hko, Garrison Keillor, and Norman Blake, and many others. His albums i
 nclude three with early performing partner Sean Blackburn and six solo
  efforts (the acclaimed Hull’s Victory and Reunion Rag, both on Flyi
 ng Fish) with four more, New Shirt, Sheridan Square Rag, The Loyalty W
 altz and Time Machine on Arabica Records. Airship, a duo album with si
 nger/guitarist/fiddler Pop Wagner was widely praised. His three albums
  with guitar and mandolin ace Kari Larson (also on Arabica) have becom
 e legendary. Most recently, Dave recorded an album of mostly tradition
 al music duets with the noted guitarist Duck Baker, When You Ask a Gir
 l to Leave Her Happy Home.  http://www.dakotadavehull.com/  \"There's 
 a million good things I could say about Dave Hull but I'll narrow it d
 own to two: He's an excellent picker, both flatpick and fingerstyle, h
 e collects some fine instruments, and we've been at a lot of good plac
 es to eat together.\" —Norman Blake  \"Hey Dave, thanks for sending 
 me your Loyalty Waltz album. I just put it on to use as background mus
 ic for something I was reading. Damn you, I never read a thing. Listen
 ed to the whole album straight through. Nice album, my good man. Keep 
 on.\" —Geoff Muldaur  WORKSHOP: \"The Art of Making Arrangements\" w
 orkshop: $30 (less 20% JPTC members). RESERVATIONS REQUIRED. Arrive 6:
 30, workshop 6:45-7:45pm. CONCERT: Doors 7:30, concert 8-10pm. $20 at 
 the door, $15 in advance - email notlobreservations@gmail.com 20% disc
 ount for JPTC members + $1 preservation fee.  $10 discount for concer
 t + workshop.  email notlobreservations at gmail dot com In your rese
 rvation request please specify you are reserving for the workshop, the
  concert, or both.  More info at the notloB website - https://sites.g
 oogle.com/site/notlobmusic/ Please sign up for our concert announcemen
 ts - http://groups.google.com/group/notlobmusic  Coffee from JP Licks
  Pastries from Fiores\n\nFor more information visit http://neighborsfo
 rneighbors.org/events/notlob-parlour-concerts-presents-dakota-dave-hul
 l-workshop-and
DTSTART:20130420T000000Z
DTEND:20130420T020000Z
CATEGORIES:workshop, concert
LOCATION:Loring-Greenough House
WEBSITE:http://goo.gl/maps/Ial8m
URL:http://goo.gl/maps/Ial8m
CONTACT:413-658-4585
ORGANIZER;CN="Jeff Boudreau":http://neighborsforneighbors.org/profile/
 JeffBoudreau
ATTACH;FMTTYPE="image/jpeg":http://storage.ning.com/topology/rest/1.0/
 file/get/2245141300?profile=original
ATTENDEE;ROLE=REQ-PARTICIPANT;PARTSTAT=ACCEPTED;RSVP=TRUE;CN="Jeff Bou
 dreau":http://neighborsforneighbors.org/profile/JeffBoudreau
END:VEVENT
END:VCALENDAR
