BEGIN:VCALENDAR
PRODID:NingEventWidget-v1
VERSION:2.0
METHOD:PUBLISH
BEGIN:VEVENT
UID:1171189:Event:93824
DTSTAMP:20260421T204235Z
SUMMARY:notloB Parlour Concerts presents Fellswater
DESCRIPTION:Fellswater's small and border piper Matthew Phelps perform
 ed in a notloB concert at the Loring-Greenough House April 17, 2010 as
  a part of (Greenough Street native) Doug Lamey's band, Tri. Welcome b
 ack, Matthew!Fellswater is a four piece Celtic ensemble that plays a w
 ide range of music from Traditional to modern compositions, and draws 
 from the heritage of all the Celtic nations, especially Scotland, Irel
 and, Brittany and Canada. Our instrumentation changes depending on the
  musical selection and includes whistle, flute, guitar, mandolin, bouz
 ouki,violin, smallpipes and border pipes.Fellswater's website: http:/
 /fellswater.com/===Suggested donation $10-20 sliding scale + $1 preser
 vation fee20% discount for JP Tuesday Club members. Reservations sugg
 ested and strongly recommended, email notlobreservations at gmail dot 
 comMore info at the notloB website - https://sites.google.com/site/no
 tlobmusic/Please sign up for our concert announcements - http://group
 s.google.com/group/notlobmusicCoffee from JP LicksPastries from Fiores
 Upcoming: 3/9 Bronwyn Keith-Hynes and Catherine Bownesshttps://www.fa
 cebook.com/events/302018473243058/\n\nFor more information visit http:
 //neighborsforneighbors.org/events/notlob-parlour-concerts-presents-fe
 llswater
DTSTART:20130224T010000Z
DTEND:20130224T030000Z
CATEGORIES:concert
LOCATION:Loring-Greenough House
WEBSITE:http://goo.gl/maps/lA4xY
URL:http://goo.gl/maps/lA4xY
CONTACT:4136584585
ORGANIZER;CN="Jeff Boudreau":http://neighborsforneighbors.org/profile/
 JeffBoudreau
ATTACH;FMTTYPE="image/jpeg":http://storage.ning.com/topology/rest/1.0/
 file/get/2058922889?profile=original
ATTENDEE;ROLE=REQ-PARTICIPANT;PARTSTAT=ACCEPTED;RSVP=TRUE;CN="Jeff Bou
 dreau":http://neighborsforneighbors.org/profile/JeffBoudreau
END:VEVENT
END:VCALENDAR
