BEGIN:VCALENDAR
PRODID:NingEventWidget-v1
VERSION:2.0
METHOD:PUBLISH
BEGIN:VEVENT
UID:1171189:Event:81082
DTSTAMP:20260421T215235Z
SUMMARY:notloB Parlour Concerts presents Flynn Cohen and the Deadstrin
 g Ensemble
DESCRIPTION:notloB Folk Concerts returns to the historic Loring-Greeno
 ugh House for its fourth year, our inaugural concert of the Fall seas
 on will be Flynn Cohen and the Deadstring EnsembleSuggested donation 
 $14 + $1 preservation feeTo reserve: notlobreservations at gmail dot c
 omGuitarist/composer Flynn Cohen leads his own band of string geniuses
  performing original multi-genre acoustic music. Primarily instrumenta
 l, they combine influences ranging from Irish traditional music, old-t
 ime Appalachian, bluegrass, folk-rock, and early music. The band consi
 sts of some of the finest and most experienced acoustic plucked-string
  players in America.FLYNN COHEN–guitar/mandolin/vocalsAcoustic Guita
 rist Flynn Cohen has performed all over the world with many notable ac
 ts in traditional and contemporary acoustic music. He can be seen on c
 oncert and festival stages with the neo-trad folk band Annalivia, lege
 ndary Irish Accordion player John Whelan, fellow trad guitar player Ma
 tt Heaton, modern bluegrass band Tony Watt & Southeast Expressway, and
  his own group of acoustic string wizards, TheDeadstring Ensemble.Flyn
 n has also performed with HALALI, The Sevens, Aoife Clancy, Cathie Rya
 n, Lawrence Nugent, Skip Healy, Joe Derrane and Frank Farrell, John Mc
 Gann, Matt Glaser, Adrienne Young, Jake & Taylor Armerding, Gail Davie
 s, Gilly Martin, Malibu Storm, Bruce MacGregor, Lissa Schneckenburger,
  Laura Cortese, Mark Simos, Women of Ireland, The Vancouver Symphony, 
 the Orchestra of Indian Hill, Revels, and Footworks Percussive Dance E
 nsemble, among others.He studied Music at Dartington College of Arts i
 n Devon, England and at Mills College in Oakland, California and now t
 eaches in the Music Dept at Keene State College in New Hampshire, as w
 ell as The Music Emporium in Lexington, Massachusetts.JOHN McGANN–gu
 itar/mandolinformer national mandolin champion, professor in the Strin
 gs dept. @ Berklee College of Music, author of many books and articles
  on guitar and mandolin playing, one of the finest improvisors in the 
 worldMATT HEATON–guitar/bouzoukiIrish guitar & bouzouki virtuoso, fa
 med for his world-wide performances with husband-wife duo Matt & Shann
 on Heaton, has accompanied many traditional musicians of note includin
 g the Boys of the Lough, has a Master's degree in classical guitar, al
 so performs on electric guitar in his Surf band Matt Heaton & the Elec
 tric HeatersDANNY NOVECK–guitar/fiddleNoted multi-instrumentalist an
 d well-known dadgad guitar accompanist, composer of the tune \"Sligo C
 reek\"http://www.flynncohen.net/deadstringensemble.cfmPatrons may also
  interested in attending Aoife Clancy, Kyle Carey and friends on Frida
 y, September 23 at Unity Somerville.https://www.facebook.com/event.php
 ?eid=188542057879676\n\nFor more information visit http://neighborsfor
 neighbors.org/events/notlob-parlour-concerts-presents-flynn-cohen-and-
 the-deadstring
DTSTART:20111021T000000Z
DTEND:20111021T020000Z
CATEGORIES:concert
LOCATION:Loring-Greenough House
WEBSITE:https://sites.google.com/site/notlobmusic/
URL:https://sites.google.com/site/notlobmusic/
CONTACT:7742931251
ORGANIZER;CN="Jeff Boudreau":http://neighborsforneighbors.org/profile/
 JeffBoudreau
ATTACH;FMTTYPE="image/jpeg":http://storage.ning.com/topology/rest/1.0/
 file/get/2245139292?profile=original
ATTENDEE;ROLE=REQ-PARTICIPANT;PARTSTAT=ACCEPTED;RSVP=TRUE;CN="Jeff Bou
 dreau":http://neighborsforneighbors.org/profile/JeffBoudreau
END:VEVENT
END:VCALENDAR
